BEGIN:VCALENDAR
VERSION:2.0
PRODID:-//wp-events-plugin.com//7.2.3.1//EN
TZID:Europe/Warsaw
X-WR-TIMEZONE:Europe/Warsaw
BEGIN:VEVENT
UID:33098@night4u.pl
DTSTART;TZID=Europe/Warsaw:20191026T210000
DTEND;TZID=Europe/Warsaw:20191027T050000
DTSTAMP:20250901T211307Z
URL:https://night4u.pl/wydarzenia/melo-kids-live-%e2%98%85-sobota-w-heaven
 -2/
SUMMARY:Melo.Kids Live ★ Sobota w Heaven
DESCRIPTION:MELO.KIDS Live // SOBOTA W HEAVEN 😀🔥🎧\nSpecjalnie dla 
 Was za konsoletą pojawią się kolejni goście specjalni.\nTym razem o wy
 buchową mieszankę najlepszej klubowej muzy zadba zamaskowany duet MELO.K
 IDS 🤩\n\nIch produkcje grane są przez takich artystów jak: TIESTO\, H
 ARDWELL\, DAVID GUETTA\, DJ SNAKE\, AFROJACK\, MARTIN GARRIX\, NICKY ROMER
 O\, NERVO\, FEDDE LE GRAND i wielu innych.\n\nImprezę nakręcają rezyden
 ci: \nDJ X-Meen | LJ Kacper | DJ Dream | Dj KeyTech\n\nREZERWACJE:  http:/
 /bit.ly/2w3r4FG
ATTACH;FMTTYPE=image/jpeg:https://night4u.pl/wp-content/uploads/2019/10/81
 523_image_73312147_2435248926522754_2367939788113182720_o.jpg
CATEGORIES:lubuskie
LOCATION:Heaven Zielona Góra\, ul. Generała Józefa Sowińskiego 38 C\, Z
 ielona Góra\, 65-067\, Poland
GEO:51.934371;15.509862
X-APPLE-STRUCTURED-LOCATION;VALUE=URI;X-ADDRESS=ul. Generała Józefa Sowi
 ńskiego 38 C\, Zielona Góra\, 65-067\, Poland;X-APPLE-RADIUS=100;X-TITLE
 =Heaven Zielona Góra:geo:51.934371,15.509862
END:VEVENT
BEGIN:VTIMEZONE
TZID:Europe/Warsaw
X-LIC-LOCATION:Europe/Warsaw
BEGIN:DAYLIGHT
DTSTART:20190331T030000
TZOFFSETFROM:+0100
TZOFFSETTO:+0200
TZNAME:CEST
END:DAYLIGHT
BEGIN:STANDARD
DTSTART:20191027T020000
TZOFFSETFROM:+0200
TZOFFSETTO:+0100
TZNAME:CET
END:STANDARD
END:VTIMEZONE
END:VCALENDAR