BEGIN:VCALENDAR
VERSION:2.0
PRODID:-//wp-events-plugin.com//7.2.3.1//EN
TZID:Europe/Warsaw
X-WR-TIMEZONE:Europe/Warsaw
BEGIN:VEVENT
UID:33384@night4u.pl
DTSTART;TZID=Europe/Warsaw:20191122T220000
DTEND;TZID=Europe/Warsaw:20191123T040000
DTSTAMP:20191119T103240Z
URL:https://night4u.pl/wydarzenia/men-of-the-night-polish-best-menstrip-sh
 ow/
SUMMARY:Men of the Night - Polish Best Menstrip Show!
DESCRIPTION:#MenoftheNightShow na żywo w Grey Club ze swoim nowym pokazem.
  Nie przegapcie występu najlepszej grupy tancerzy w Polsce. Zapraszamy na
  wyjątkową noc dla Pań i nie tylko już 22 listopada. \n\nBilety dostę
 pne są na portalu Ticketos w przedsprzedaży:\nhttps://ticketos.pl/event/
 2685\n\nFilm z ostatniej imprezy z udziałem innej grupy tancerzy: \nhttps
 ://www.youtube.com/watch?v=usDxIZUCoec&amp\;t=2s\n\nPamiętajcie\, że tyd
 zień potrafi naprawdę szybko minąć. Cierpliwie poczekaj na piątek i d
 aj się porwać zabawie!\n#AfterWork #LadiesNight\n\nCo tydzień w tym dni
 u pozytywnie zaskakujemy płeć piękną oraz szczecińskie firmy. Za ster
 ami staną nasi rezydenci - ciepłe\, taneczne i housowe brzmienia remiksu
 ją z waszymi ulubionymi hitami R'n'B\, tak aby nikt nie stał obojętnie!
 \n\nzagra: HOSTER\n\nBilety na wejściu w cenie 20 zł - wstęp 19+\n\nRez
 erwacje: \nloża/stolik w cenie 150\,00 PLN - cała kwota do wydania u kel
 nerki\nloża VIP w cenie 400\,00 PLN - cała kwota do wydania u kelnerki\n
 *promocje i rabaty dla firm - szczegóły: info@greyclub.pl\n\n-----------
 -----\nrezerwacje i informacje: + 48 666 12 64 64
ATTACH;FMTTYPE=image/jpeg:https://night4u.pl/wp-content/uploads/2019/10/82
 857_image_73017172_2783050978372716_6185993468888743936_o.jpg
CATEGORIES:zachodniopomorskie
LOCATION:Grey Club\, ul. Ks. Bogusława X 9\, Szczecin\, 70-440\, Poland
GEO:53.429496;14.543525
X-APPLE-STRUCTURED-LOCATION;VALUE=URI;X-ADDRESS=ul. Ks. Bogusława X 9\, Sz
 czecin\, 70-440\, Poland;X-APPLE-RADIUS=100;X-TITLE=Grey Club:geo:53.42949
 6,14.543525
END:VEVENT
BEGIN:VTIMEZONE
TZID:Europe/Warsaw
X-LIC-LOCATION:Europe/Warsaw
BEGIN:STANDARD
DTSTART:20191027T020000
TZOFFSETFROM:+0200
TZOFFSETTO:+0100
TZNAME:CET
END:STANDARD
END:VTIMEZONE
END:VCALENDAR