BEGIN:VCALENDAR
VERSION:2.0
PRODID:-//wp-events-plugin.com//7.2.3.1//EN
TZID:Europe/Warsaw
X-WR-TIMEZONE:Europe/Warsaw
BEGIN:VEVENT
UID:38744@night4u.pl
DTSTART;TZID=Europe/Warsaw:20191228T220000
DTEND;TZID=Europe/Warsaw:20191229T060000
DTSTAMP:20191228T052253Z
URL:https://night4u.pl/wydarzenia/merry-coco-2/
SUMMARY:Merry Coco
DESCRIPTION:HOUSE FLOOR: \nEKIM\nHEADSTER \nBEATLINER\n\nRNB FLOOR:\nDJ S-M
 ASTER /Coco Music Club Resident/\n\nMERRY COCO!!!\n\n#christmas #cocomusic
 club\n\nZ okazji Świąt #cocostaff życzy wszystkim klubowiczom dużo szc
 zęścia i energii na imprezy do rana!!! \n\nA tuż przed samymi świętam
 i zapraszamy w sobotę do #COCO! \n\nBędzie świątecznie i mega pozytywn
 ie!\n\n-------------------------------------------------------------------
 ---------------------\n\nPROMOCJA DLA PAŃ: 2 pierwsze koktajle po 10pln!!
 !\nUWAGA! Promocje obowiązują po dopisaniu się do listy gości na FB lu
 b where2be:\nhttps://www.where2b.org/event/76423\n\nDODATKOWO: Wstęp FREE
  do 24:00 z listy FB lub W2B!
ATTACH;FMTTYPE=image/jpeg:https://night4u.pl/wp-content/uploads/2019/12/11
 1271_image_79444959_3634486509895140_6220270610740674560_o.jpg
CATEGORIES:małopolskie
LOCATION:Klub Coco Kraków\, Szpitalna 38\, Kraków\, 31-024\, Poland
GEO:50.06422;19.94218
X-APPLE-STRUCTURED-LOCATION;VALUE=URI;X-ADDRESS=Szpitalna 38\, Kraków\, 31
 -024\, Poland;X-APPLE-RADIUS=100;X-TITLE=Klub Coco Kraków:geo:50.06422,19
 .94218
END:VEVENT
BEGIN:VTIMEZONE
TZID:Europe/Warsaw
X-LIC-LOCATION:Europe/Warsaw
BEGIN:STANDARD
DTSTART:20191027T020000
TZOFFSETFROM:+0200
TZOFFSETTO:+0100
TZNAME:CET
END:STANDARD
END:VTIMEZONE
END:VCALENDAR