BEGIN:VCALENDAR
VERSION:2.0
PRODID:-//wp-events-plugin.com//7.2.3.1//EN
TZID:Europe/Warsaw
X-WR-TIMEZONE:Europe/Warsaw
BEGIN:VEVENT
UID:40755@night4u.pl
DTSTART;TZID=Europe/Warsaw:20191225T200000
DTEND;TZID=Europe/Warsaw:20191225T200000
DTSTAMP:20191225T215827Z
URL:https://night4u.pl/wydarzenia/merry-xmas-dj-dzwiek-boze-narodzenie/
SUMMARY:Merry Xmas - Dj Dźwięk || Boże Narodzenie
DESCRIPTION:⭐️ #OstroFriends najedzeni makowcami\, sałatkami\, prezent
 y rozdane i otrzymane\n👉czas ruszyć na miasto \n\n🎧 W Boże Narodze
 nie zagra dla Was niekoniecznie świąteczne kawałki Dj Dźwięk! Co ozna
 cza\, że wpaść spić cubankę wręcz wypada \n\n🍸 #OstroCocktailTeam
  zaserwuje mikołajkowe cocktaile oraz inne smaczne mikstury 🎅 \n\n🍔
  Kto dalej głodny to Nasza kuchnia działa do samego zamknięcia lokalu! 
 \n\nDo Zobaczenia na Deptaczku 🤙\n\n🎅 Podsumowując⤵️\nStart:: 2
 0-00\nKoniec:: ??? \nWejście:: FREE \nMuzyka:: Dj Dźwięk
ATTACH;FMTTYPE=image/jpeg:https://night4u.pl/wp-content/uploads/2019/12/12
 4735_image_80560931_1254011071453215_4957861825593999360_n.jpg
CATEGORIES:lubelskie
LOCATION:OSTRO\, ul. Krakowskie Przedmieście 25\, Lublin\, 20-002\, Poland
GEO:51.24798;22.56254
X-APPLE-STRUCTURED-LOCATION;VALUE=URI;X-ADDRESS=ul. Krakowskie Przedmieści
 e 25\, Lublin\, 20-002\, Poland;X-APPLE-RADIUS=100;X-TITLE=OSTRO:geo:51.24
 798,22.56254
END:VEVENT
BEGIN:VTIMEZONE
TZID:Europe/Warsaw
X-LIC-LOCATION:Europe/Warsaw
BEGIN:STANDARD
DTSTART:20191027T020000
TZOFFSETFROM:+0200
TZOFFSETTO:+0100
TZNAME:CET
END:STANDARD
END:VTIMEZONE
END:VCALENDAR