BEGIN:VCALENDAR
VERSION:2.0
PRODID:-//wp-events-plugin.com//7.2.3.1//EN
TZID:Europe/Warsaw
X-WR-TIMEZONE:Europe/Warsaw
BEGIN:VEVENT
UID:19965@night4u.pl
DTSTART;TZID=Europe/Warsaw:20190817T220000
DTEND;TZID=Europe/Warsaw:20190818T070000
DTSTAMP:20190621T201120Z
URL:https://night4u.pl/wydarzenia/metroo-bday/
SUMMARY:metrøø bday
DESCRIPTION:Sierpień to dla mnie zdecydowanie najpiękniejszy miesiąc rok
 u\, po pierwsze ze względu na pogodę\, po drugie to miesiąc moich urodz
 in\, dlatego już 17 sierpnia spotkamy się w zielonogórskim klubie Obiek
 t\, aby świętować moje 32 urodziny.\n\nNie wyobrażam sobie spędzić t
 ego dnia inaczej niż w Waszym towarzystwie\, pośród przyjaciół\, znaj
 omych i tych wszystkich\, którzy kochają muzykę 
ATTACH;FMTTYPE=image/jpeg:https://night4u.pl/wp-content/uploads/2019/06/48
 047_image_64909164_2490274561006418_8259338538181459968_o.jpg
CATEGORIES:lubuskie
LOCATION:O B I E K T\, Kazimierza Wielkiego 21\, Zielona Góra\, 65-001\, P
 oland
GEO:51.944503;15.513146
X-APPLE-STRUCTURED-LOCATION;VALUE=URI;X-ADDRESS=Kazimierza Wielkiego 21\, Z
 ielona Góra\, 65-001\, Poland;X-APPLE-RADIUS=100;X-TITLE=O B I E K T:geo:
 51.944503,15.513146
END:VEVENT
BEGIN:VTIMEZONE
TZID:Europe/Warsaw
X-LIC-LOCATION:Europe/Warsaw
BEGIN:DAYLIGHT
DTSTART:20190331T030000
TZOFFSETFROM:+0100
TZOFFSETTO:+0200
TZNAME:CEST
END:DAYLIGHT
END:VTIMEZONE
END:VCALENDAR