BEGIN:VCALENDAR
VERSION:2.0
PRODID:-//wp-events-plugin.com//7.2.3.1//EN
TZID:Europe/Warsaw
X-WR-TIMEZONE:Europe/Warsaw
BEGIN:VEVENT
UID:48762@night4u.pl
DTSTART;TZID=Europe/Warsaw:20200320T200000
DTEND;TZID=Europe/Warsaw:20200321T043000
DTSTAMP:20200318T215751Z
URL:https://night4u.pl/wydarzenia/mezczyzni-kochaja-zolzy-ladies-w-pewexie
 -3/
SUMMARY:Mężczyźni kochają Zołzy-Ladies w Pewexie
DESCRIPTION:Halo\, halo... czy są tu jakieś Zołzy? 😁\n   Serdecznie z
 apraszamy na Piątkowy cykl imprez dla Pań 💃❤️\n   \n   Wszystkie 
 Panie\, które przyjdą do klubu do godz 23.00 wejdą za free! Dodatkowo n
 iespodzianka przy barze :-) kolorowe shoty\, piękne Panie\, taneczna atmo
 sfera :) tańce na barze 💃\n   Nic tak nie łączy jak wspólny taniec\
 , dobry drink i radosny nastrój 🍹💃\n   \n   UWAGA! UWAGA!\n   Grupy
  Pań powyżej 6 osób będą uhonorowane butelką szampana 🍾\n   \n   
 Tego dnia obowiązywać będą promocje na coctaile miłosne: Sex on the B
 each\, Cosmopolitan- w mocno okrojonych cenach :) \n   Przy hitach z lat 8
 0\,90\,2000 zabawa do rana gwarantowana! 💃\n   \n   Setny bilet -wygryw
 a butelkę szampana 🍾\n   \n   Dress code- klubowa elegancja.\n   Start
 : 20:00\n   Muzyka: 80\, 90\,2000 💃👯‍♀️\n   ☎️ Rezerwacja 
 loży: 501-701-434\n   \n   Klub Muzyczny Pewex\n   Łódź\, ul. Narutowi
 cza 28 \n   \n   \n   ❌ Wszyscy\,którzy wpiszą się na wydarzenie\, ud
 ostępnią je na osi czasu oraz zaproszą min 100 osób wejście free gwar
 antowane!
ATTACH;FMTTYPE=image/jpeg:https://night4u.pl/wp-content/uploads/2020/02/16
 6716_image_84391786_2710101505709870_6490838402039021568_n.jpg
CATEGORIES:łódzkie
LOCATION:Klub Muzyczny Pewex\, Łódź\, Poland
GEO:51.77122;19.46136
X-APPLE-STRUCTURED-LOCATION;VALUE=URI;X-ADDRESS=Łódź\, Poland;X-APPLE-RA
 DIUS=100;X-TITLE=Klub Muzyczny Pewex:geo:51.77122,19.46136
END:VEVENT
BEGIN:VTIMEZONE
TZID:Europe/Warsaw
X-LIC-LOCATION:Europe/Warsaw
BEGIN:STANDARD
DTSTART:20191027T020000
TZOFFSETFROM:+0200
TZOFFSETTO:+0100
TZNAME:CET
END:STANDARD
END:VTIMEZONE
END:VCALENDAR