BEGIN:VCALENDAR
VERSION:2.0
PRODID:-//wp-events-plugin.com//7.2.3.1//EN
TZID:Europe/Warsaw
X-WR-TIMEZONE:Europe/Warsaw
BEGIN:VEVENT
UID:36124@night4u.pl
DTSTART;TZID=Europe/Warsaw:20200407T190000
DTEND;TZID=Europe/Warsaw:20200407T220000
DTSTAMP:20200405T114738Z
URL:https://night4u.pl/wydarzenia/miami-horror-7-04-klub-u-bazyla-poznan/
SUMMARY:Cancelled: Miami Horror / 7.04 / Klub U Bazyla\, Poznań
DESCRIPTION:W związku z pandemią koronawirusa na świecie\, trasa zespoł
 u Miami Horror zostaje przeniesiona na nowy termin. Koncert 7.04 w Poznani
 u zostaje odwołany całkowicie\, natomiast koncert 8.04 w Warszawie zosta
 je przeniesiony na 16.09.2020. W sprawie zwrotu biletów proszę zgłasza
 ć się do miejsc zakupu biletów. Bilety z Poznania zachowują ważność
  na nowy termin w Warszawie. W sprawach biletów zakupionych na www.winiar
 ybookings.pl proszę pisać na bilety@winiarybookings.pl\n\nMiami Horror p
 o raz pierwszy w Polsce! Australijska grupa na początku kwietnia odwiedzi
  Poznań i Warszawę w ramach swojej europejskiej trasy. \n\nPatronat medi
 alny: Czwórka\, Rytmy.pl\n\nMiami Horror\n7.04.2020 g. 19:00\nPoznań / K
 lub u Bazyla\n\nMiami Horror\n8.04.2020 g. 19:00\nWarszawa / Klub Hydrozag
 adka\n\n⚠️Szanowni Państwo. Prosimy o kupowanie biletów wyłącznie 
 w autoryzowanych punktach sprzedaży. Poprzez kupno wejściówek od osób 
 trzecich możecie zostać Państwo oszukani.⚠️\n\n❌ Wstęp na koncer
 t 16+ za pisemną zgodą rodzica. Poniżej 16 lat\, wymagana obecność pe
 łnoletniego opiekuna. Wzór zgody: http://bit.ly/ZGODA_WB\n\n🌿W trosce
  o środowisko zachęcamy Was do pokazywania biletów na telefonie zamiast
  ich drukowania.\n\nMiami Horror (Australia)\n\nZałożony na początku ja
 ko projekt solowy Benjamina Planta\, Miami Horror tworzy hybrydę muzyki t
 anecznej i klasycznego rocka z lat 70. I 80. Zespół oświadczył niedawn
 o\, że pracuje nad swoją trzecią płytą\, dzieląc się z fanami singl
 em „Luv is Not Enough”. Utwór stworzony z urzekającymi\, gościnnymi
  wokalami Clear Mortifee\, jest kompozycją dla Miami Horror charakterysty
 czną: napędzana przez subtelną linię basu wciąga słuchacza w swój r
 elaksacyjny klimat. Premiera nowego wydawnictwa grupy datowana jest na kon
 iec 2020 roku\, lecz część piosenek z tego materiału na pewno będzie 
 można usłyszeć na polskich koncertach! \n\n🌐https://www.instagram.co
 m/miamihorror/\n\n🔈”Luv is Not Enough” https://www.youtube.com/watc
 h?v=NYrOZmRR9tU\n🔈”Sometimes” https://www.youtube.com/watch?v=Fn7FX
 GaHTNs\n____________________________________________________\nWpadaj na In
 stagram ➡ http://bit.ly/Nasz-instagram\nPolub nasz profil ➡ http://bit
 .ly/Nasz--Facebook
ATTACH;FMTTYPE=image/jpeg:https://night4u.pl/wp-content/uploads/2020/03/97
 484_image_89828157_2833340993420992_4297920820455407616_o.jpg
CATEGORIES:wielkopolskie
LOCATION:Klub u Bazyla\, ul. Norwida 18A\, Poznan\, 60-867\, Poland
GEO:52.416733;16.911755
X-APPLE-STRUCTURED-LOCATION;VALUE=URI;X-ADDRESS=ul. Norwida 18A\, Poznan\, 
 60-867\, Poland;X-APPLE-RADIUS=100;X-TITLE=Klub u Bazyla:geo:52.416733,16.
 911755
END:VEVENT
BEGIN:VTIMEZONE
TZID:Europe/Warsaw
X-LIC-LOCATION:Europe/Warsaw
BEGIN:DAYLIGHT
DTSTART:20200329T030000
TZOFFSETFROM:+0100
TZOFFSETTO:+0200
TZNAME:CEST
END:DAYLIGHT
END:VTIMEZONE
END:VCALENDAR