BEGIN:VCALENDAR
VERSION:2.0
PRODID:-//wp-events-plugin.com//7.2.3.1//EN
TZID:Europe/Warsaw
X-WR-TIMEZONE:Europe/Warsaw
BEGIN:VEVENT
UID:27453@night4u.pl
DTSTART;TZID=Europe/Warsaw:20190920T210000
DTEND;TZID=Europe/Warsaw:20190921T050000
DTSTAMP:20190914T105420Z
URL:https://night4u.pl/wydarzenia/michael-jackson-night-piatek-20-09-club-
 80-2/
SUMMARY:Michael Jackson NIGHT // Piątek 20.09 - Club 80
DESCRIPTION:MICHAEL JACKSON NIGHT // Piątek 20.09 - Club 80\n\nW piątek 2
 0 września impreza jakiej jeszcze w Club 80 nie było! MICHAEL JACKSON NI
 GHT\, podczas której usłyszycie największe hity Króla Popu. ?\n\nPami
 ętacie:\n? Billie Jean\nhttps://www.youtube.com/watch?v=Zi_XLOBDo_Y\n? Be
 at It \nhttps://www.youtube.com/watch?v=oRdxUFDoQe0\n? Smooth Criminal\nht
 tps://www.youtube.com/watch?v=h_D3VFfhvs4\n\n? Jedno jest pewne. Przez ca
 łą noc usłyszycie mnóstwo hitów MICHAELA JACKSONA. ??\n\nWidzimy się
  o 21:00 ??\n--\n? Dolny poziom - DJ CIHY\n--\nℹ INFO\n\n➡ START: ? 21
 .00 | DOOR SELECTION\n\n➡ REZERWACJE\n? 517 517 519\n\n➡ REGULAMIN KLU
 BU\nhttps://bit.ly/2AqoA65\n\n➡ POROZMAWIAJ ONLINE \nm.me/Club80Premium\
 n\n➡ WSTĘP\nPANIE - 5zł\nPANOWIE - 10zł\n--\nwww.club80.pl\nwww.fb.co
 m/Club80Premium
ATTACH;FMTTYPE=image/jpeg:https://night4u.pl/wp-content/uploads/2019/09/63
 916_image_71186697_3104961319575969_9032008141188890624_o.jpg
CATEGORIES:śląskie
LOCATION:Club 80 Siemianowice Śląskie\, Olimpijska 15\, Siemianowice Slas
 kie\, 41-100\, Poland
GEO:50.304733;19.017948
X-APPLE-STRUCTURED-LOCATION;VALUE=URI;X-ADDRESS=Olimpijska 15\, Siemianowic
 e Slaskie\, 41-100\, Poland;X-APPLE-RADIUS=100;X-TITLE=Club 80 Siemianowic
 e Śląskie:geo:50.304733,19.017948
END:VEVENT
BEGIN:VTIMEZONE
TZID:Europe/Warsaw
X-LIC-LOCATION:Europe/Warsaw
BEGIN:DAYLIGHT
DTSTART:20190331T030000
TZOFFSETFROM:+0100
TZOFFSETTO:+0200
TZNAME:CEST
END:DAYLIGHT
END:VTIMEZONE
END:VCALENDAR