BEGIN:VCALENDAR
VERSION:2.0
PRODID:-//wp-events-plugin.com//7.2.3.1//EN
TZID:Europe/Warsaw
X-WR-TIMEZONE:Europe/Warsaw
BEGIN:VEVENT
UID:45826@night4u.pl
DTSTART;TZID=Europe/Warsaw:20200229T200000
DTEND;TZID=Europe/Warsaw:20200229T230000
DTSTAMP:20200229T161205Z
URL:https://night4u.pl/wydarzenia/miejskie-granie-cover-band/
SUMMARY:Miejskie Granie Cover Band
DESCRIPTION:Miejskie Granie\, to doświadczeni muzycy z rockowym charaktere
 m grający głównie polskie przeboje w stylu “Męskiego Grania”\n\nWo
 kalistą i frontmanem zespołu jest Jurand Wójcik finalista drugiej edycj
 i programu The Voice Of Poland w drużynie Patrycji Markowskiej.\n\nJurand
 a wspierają na scenie:\nPaweł Cieślik - perkusista\, producent muzyczny
 \, mózg zespołu\, łamacz pałek i kobiecych serc :) \nMarek Grzesiak - 
 basista o słuchu absolutnym i brzmieniu w palcach\, podobno “zagra nawe
 t na miotle” \;)\nŁukasz Szczepański - klawiszowiec o DUŻYM temperame
 ncie i ukrytym wdzięku. Najbardziej tajemniczy człowiek w zespole.\nMaci
 ej Kozubal - gitarzysta\, lutnik\, fotograf\, cieśla\, pływak\, biegacz\
 , budowniczy. Miłośnik dobrego piwa i Odysei Kosmicznej.\n\nCelem zespo
 łu jest dostarczanie słuchaczom dużej dawki energii oraz pozytywnych em
 ocji w trakcie występów na żywo. \n\nhttps://www.youtube.com/watch?v=et
 JgZKLOnYY\n\nBilety 30zł przedsprzedaż\,35zł w dniu koncertu.
ATTACH;FMTTYPE=image/jpeg:https://night4u.pl/wp-content/uploads/2020/01/14
 8800_image_83111112_2606455022740883_7156628297936273408_n.jpg
CATEGORIES:dolnośląskie
LOCATION:A PROPOS\, ul.Wieniawskiego 82\, Wałbrzych\, 58-309\, Poland
GEO:50.817263;16.276605
X-APPLE-STRUCTURED-LOCATION;VALUE=URI;X-ADDRESS=ul.Wieniawskiego 82\, Wałb
 rzych\, 58-309\, Poland;X-APPLE-RADIUS=100;X-TITLE=A PROPOS:geo:50.817263,
 16.276605
END:VEVENT
BEGIN:VTIMEZONE
TZID:Europe/Warsaw
X-LIC-LOCATION:Europe/Warsaw
BEGIN:STANDARD
DTSTART:20191027T020000
TZOFFSETFROM:+0200
TZOFFSETTO:+0100
TZNAME:CET
END:STANDARD
END:VTIMEZONE
END:VCALENDAR