BEGIN:VCALENDAR
VERSION:2.0
PRODID:-//wp-events-plugin.com//7.2.3.1//EN
TZID:Europe/Warsaw
X-WR-TIMEZONE:Europe/Warsaw
BEGIN:VEVENT
UID:21898@night4u.pl
DTSTART;TZID=Europe/Warsaw:20190717T210000
DTEND;TZID=Europe/Warsaw:20190718T040000
DTSTAMP:20190709T224152Z
URL:https://night4u.pl/wydarzenia/mielenskie-granie-na-spontanie-sroda-17-
 lipca/
SUMMARY:Mieleńskie Granie Na Spontanie ! Środa - 17 Lipca !
DESCRIPTION:?ARENA MIELNO? \n\n⭐⭐⭐ WAKACJE W MIELNIE ⭐⭐⭐\n\n? M
 IELNO INFERNO ? GRAMY NA SPONTANIE !\nDj Killer & Gashmaker & DJ LeXu\nMOC
 NIEJSZE BRZMIENIA PRZEZ CAŁĄ NOC !!!\n\nUWAGA ❗ ROZDAJEMY WEJŚCIÓWKI
  FREE !!!\n\nCo trzeba zrobić?\n?UDOSTĘPNIJ WYDARZENIE I WEŹ W NIM UDZI
 AŁ !\n\n★ DATA ★ Środa 17 Lipca !\n-> START: 21:00
ATTACH;FMTTYPE=image/jpeg:https://night4u.pl/wp-content/uploads/2019/07/51
 889_image_66227917_2459989697355207_3369246816867450880_n.jpg
CATEGORIES:zachodniopomorskie
LOCATION:Arena Club Mielno\, Chrobrego 32\, Mielno Koszalinskie\, 76-032\, 
 Poland
GEO:54.261259;16.069495
X-APPLE-STRUCTURED-LOCATION;VALUE=URI;X-ADDRESS=Chrobrego 32\, Mielno Kosza
 linskie\, 76-032\, Poland;X-APPLE-RADIUS=100;X-TITLE=Arena Club Mielno:geo
 :54.261259,16.069495
END:VEVENT
BEGIN:VTIMEZONE
TZID:Europe/Warsaw
X-LIC-LOCATION:Europe/Warsaw
BEGIN:DAYLIGHT
DTSTART:20190331T030000
TZOFFSETFROM:+0100
TZOFFSETTO:+0200
TZNAME:CEST
END:DAYLIGHT
END:VTIMEZONE
END:VCALENDAR