BEGIN:VCALENDAR
VERSION:2.0
PRODID:-//wp-events-plugin.com//7.2.3.1//EN
TZID:Europe/Warsaw
X-WR-TIMEZONE:Europe/Warsaw
BEGIN:VEVENT
UID:38515@night4u.pl
DTSTART;TZID=Europe/Warsaw:20191206T200000
DTEND;TZID=Europe/Warsaw:20191206T200000
DTSTAMP:20191206T171910Z
URL:https://night4u.pl/wydarzenia/mikolajki-2/
SUMMARY:Mikołajki
DESCRIPTION:Tego mroźnego wieczoru rozgrzeją Was nasze piękne tancerki. 
 Barmani zaserwują drinki w świątecznym wydaniu nie tylko dla tych najgr
 zeczniejszych 😉\n\nDla pierwszych 50 osób czapka Mikołaja :)\n\nRezer
 wacja stolika on-line \nwww.poklad.pl\n\nStart 20:00\nWstęp 10 pln \nWst
 ęp do klubu tylko dla osób pełnoletnich.\n Obowiązuje selekcja.
ATTACH;FMTTYPE=image/jpeg:https://night4u.pl/wp-content/uploads/2019/12/11
 0028_image_73321706_2684556208267341_5118363155717685248_n.jpg
CATEGORIES:pomorskie
LOCATION:Klub Pokład\, Aleja Jana Pawła II 11\, Gdynia\, 81-345\, Poland
GEO:54.51866;18.54817
X-APPLE-STRUCTURED-LOCATION;VALUE=URI;X-ADDRESS=Aleja Jana Pawła II 11\, G
 dynia\, 81-345\, Poland;X-APPLE-RADIUS=100;X-TITLE=Klub Pokład:geo:54.518
 66,18.54817
END:VEVENT
BEGIN:VTIMEZONE
TZID:Europe/Warsaw
X-LIC-LOCATION:Europe/Warsaw
BEGIN:STANDARD
DTSTART:20191027T020000
TZOFFSETFROM:+0200
TZOFFSETTO:+0100
TZNAME:CET
END:STANDARD
END:VTIMEZONE
END:VCALENDAR