BEGIN:VCALENDAR
VERSION:2.0
PRODID:-//wp-events-plugin.com//7.2.3.1//EN
TZID:Europe/Warsaw
X-WR-TIMEZONE:Europe/Warsaw
BEGIN:VEVENT
UID:38101@night4u.pl
DTSTART;TZID=Europe/Warsaw:20191207T210000
DTEND;TZID=Europe/Warsaw:20191208T050000
DTSTAMP:20191208T003027Z
URL:https://night4u.pl/wydarzenia/mikolajki-dzien-2-johnny-saxo-fatdaddy-c
 onga-07-12/
SUMMARY:Mikołajki / Dzień 2 / Johnny Saxo &amp\; FatDaddy Conga // 07.12 
 //
DESCRIPTION:6 i 7 grudnia nasz klub opanuje dwudniowe Mikołajkowe szaleńs
 two! Drugiego dnia przygotowaliśmy dla Was klasyczną imprezę na trzy mu
 zycznie różne parkiety\, wzmocnione o live-act JOHNNY SAXO oraz FatDaddy
  Conga na sali CLUB SOUNDS!\n\nPodsumowując: w sobotę kierunek jest jede
 n -&gt\; ul. Jasna 7.\n\nLINE-UP:\nNOVACK/HUNTER (OLD&amp\;NEW)\nALAN WHIT
 E/DEMANU + JOHNNY SAXO &amp\; FATDADDY CONGA (CLUB SOUNDS)\nSZELA (ROCK)\n
 \n------------------------------------------------------------------------
 ------------\nDla kogo jest Klub30 ? \nSzykujemy dla Was miejsce\, w któr
 ym bez problemu znajdziecie wspólny język z innymi klubowiczami. Nie spo
 tkasz tu swojej córki\, nie spotkasz tu swoich studentów...\nZa to na pe
 wno spotkasz ludzi\, którzy nie wyobrażają sobie siedzieć wieczorem w 
 domu.\n-------------------------------------------------------------------
 -----------------\nSTART: 21:00\n\nWSTĘP:\n21:00 - 22:00 - 10 PLN\n22:00 
 - 23:00 - 15 PLN\npo 23:00 - 20 PLN\n\nRezerwacje: 574 649 583 (wtorek - s
 obota\, 16:00 - 19:00)\n\nW naszym klubie istnieje możliwość przygotowa
 nia cateringu! To świetna opcja na wieczory panieńskie\, kawalerskie czy
  spotkania biznesowe. Jeżeli jesteś zainteresowany/a - powiadom nas o ty
 m przy rezerwacji telefonicznej!\n\nNajlepiej po trzydziestce... :) \nObow
 iązuje door selection
ATTACH;FMTTYPE=image/jpeg:https://night4u.pl/wp-content/uploads/2019/12/10
 8878_image_75513413_2227087547584150_5203010750599135232_o.jpg
CATEGORIES:lubelskie
LOCATION:Klub30 Lublin\, \, 
X-APPLE-STRUCTURED-LOCATION;VALUE=URI;X-ADDRESS=\, ;X-APPLE-RADIUS=100;X-TI
 TLE=Klub30 Lublin:geo:0,0
END:VEVENT
BEGIN:VTIMEZONE
TZID:Europe/Warsaw
X-LIC-LOCATION:Europe/Warsaw
BEGIN:STANDARD
DTSTART:20191027T020000
TZOFFSETFROM:+0200
TZOFFSETTO:+0100
TZNAME:CET
END:STANDARD
END:VTIMEZONE
END:VCALENDAR