BEGIN:VCALENDAR
VERSION:2.0
PRODID:-//wp-events-plugin.com//7.2.3.1//EN
TZID:Europe/Warsaw
X-WR-TIMEZONE:Europe/Warsaw
BEGIN:VEVENT
UID:38501@night4u.pl
DTSTART;TZID=Europe/Warsaw:20191207T210000
DTEND;TZID=Europe/Warsaw:20191208T050000
DTSTAMP:20191206T161631Z
URL:https://night4u.pl/wydarzenia/mikolajki-z-melo-kids-w-7-niebie-07-12/
SUMMARY:Mikołajki z Melo.Kids w 7 Niebie // 07.12
DESCRIPTION:Czas na Mikołajki w Niebie 🌲🎄 W sobotę wszyscy\, bez wy
 jątku możecie liczyć na prezent od Mikołaja 🔥 Tej nocy zagrają Mel
 o.Kids oraz oczywiście nasi rezydenci. Świętujemy na 3 parkietach &lt\;
 3
ATTACH;FMTTYPE=image/jpeg:https://night4u.pl/wp-content/uploads/2019/12/10
 9994_image_77175896_2544715512426929_813762316792233984_o.jpg
CATEGORIES:dolnośląskie
LOCATION:Seven Heaven Legnica\, kard. Bolesława Kominka 1\, Legnica\, 59-2
 20\, Poland
GEO:51.210306;16.152576
X-APPLE-STRUCTURED-LOCATION;VALUE=URI;X-ADDRESS=kard. Bolesława Kominka 1\
 , Legnica\, 59-220\, Poland;X-APPLE-RADIUS=100;X-TITLE=Seven Heaven Legnic
 a:geo:51.210306,16.152576
END:VEVENT
BEGIN:VTIMEZONE
TZID:Europe/Warsaw
X-LIC-LOCATION:Europe/Warsaw
BEGIN:STANDARD
DTSTART:20191027T020000
TZOFFSETFROM:+0200
TZOFFSETTO:+0100
TZNAME:CET
END:STANDARD
END:VTIMEZONE
END:VCALENDAR