BEGIN:VCALENDAR
VERSION:2.0
PRODID:-//wp-events-plugin.com//7.2.3.1//EN
TZID:Europe/Warsaw
X-WR-TIMEZONE:Europe/Warsaw
BEGIN:VEVENT
UID:37952@night4u.pl
DTSTART;TZID=Europe/Warsaw:20191208T130000
DTEND;TZID=Europe/Warsaw:20191208T170000
DTSTAMP:20191208T092132Z
URL:https://night4u.pl/wydarzenia/mikolajkowe-spotkanie-z-plyta-winylowa-v
 ol-6/
SUMMARY:Mikołajkowe spotkanie z płytą winylową vol.6
DESCRIPTION:To już nasze 6 spotkanie! ♥\nMikołajkowe spotkanie z płyt
 ą winylowa  to wspaniała okazja wzbogacić kolekcję albo upolować prez
 ent dla najbliższych. Jest to także okazja spotkać  się i porozmawiać
  z ludźmi podobnymi do Nas. \nWszyscy miłośnicy nieśmiertelnego\, czar
 nego krążka przybywajcie do Klub Muzyczny Scena już w niedzielę 8.12\n
  Duża dostawa płyt z wielkiej giełdy w Utrechcie już powoli wpada do n
 aszy skrzynek więc będzie w czym wybierać.\nZapraszamy
ATTACH;FMTTYPE=image/jpeg:https://night4u.pl/wp-content/uploads/2019/12/10
 8227_image_72475311_2500434883615116_4868469537390985216_n.jpg
CATEGORIES:wielkopolskie
LOCATION:Scena Bar &amp\; Restaurant\, Al. Piastów 15\, Piła\, 64-920\, P
 oland
GEO:53.150244;16.738629
X-APPLE-STRUCTURED-LOCATION;VALUE=URI;X-ADDRESS=Al. Piastów 15\, Piła\, 6
 4-920\, Poland;X-APPLE-RADIUS=100;X-TITLE=Scena Bar & Restaurant:geo:53.15
 0244,16.738629
END:VEVENT
BEGIN:VTIMEZONE
TZID:Europe/Warsaw
X-LIC-LOCATION:Europe/Warsaw
BEGIN:STANDARD
DTSTART:20191027T020000
TZOFFSETFROM:+0200
TZOFFSETTO:+0100
TZNAME:CET
END:STANDARD
END:VTIMEZONE
END:VCALENDAR