BEGIN:VCALENDAR
VERSION:2.0
PRODID:-//wp-events-plugin.com//7.2.3.1//EN
TZID:Europe/Warsaw
X-WR-TIMEZONE:Europe/Warsaw
BEGIN:VEVENT
UID:38413@night4u.pl
DTSTART;TZID=Europe/Warsaw:20191205T213000
DTEND;TZID=Europe/Warsaw:20191206T040000
DTSTAMP:20200401T082030Z
URL:https://night4u.pl/wydarzenia/mikolajkowe-uparty/
SUMMARY:Mikołajkowe UParty!
DESCRIPTION:English below! 🇬🇧\n\nHo\, ho\, ho!  🎅🏻\n\nCzas wej
 ść w klimat świąteczny w wielkim stylu. \nJuż 5 grudnia w Akademia CL
 UB rozpoczynamy najbardziej świąteczną imprezę w mieście! \n\nZakład
 ajcie świąteczne czapki\, rogi reniferów\, wypnijcie brzuchy do przodu 
 - widzimy się już niedługo na parkiecie.\n\nPrzygotowaliśmy dla was sp
 ecjalne smakołyki na barze\, w bardzo okazyjnych cenach\, mnóstwo dobrej
  muzyki oraz moc atrakcji! 🎉\n\nWięcej szczegółów wkrótce!\n\n🇬
 🇧 🇬🇧 🇬🇧\n\nHo\, ho\, ho! 🎅🏻\n\nIt’s time to begin s
 preading cheer and joy!\nOn 5th of December in Akademia Club there’s gon
 na be the most Christmasy party of this year!\n\nPut on your Santa hat\, r
 eindeers antlers and see ya on the dancefloor!
ATTACH;FMTTYPE=image/jpeg:https://night4u.pl/wp-content/uploads/2019/12/10
 9833_image_77300976_3119512554728891_8567046908848111616_o.jpg
CATEGORIES:dolnośląskie
LOCATION:Akademia\, Grunwaldzka 67\, Wroclaw\, 50-357\, Poland
GEO:51.11448;17.06641
X-APPLE-STRUCTURED-LOCATION;VALUE=URI;X-ADDRESS=Grunwaldzka 67\, Wroclaw\, 
 50-357\, Poland;X-APPLE-RADIUS=100;X-TITLE=Akademia:geo:51.11448,17.06641
END:VEVENT
BEGIN:VTIMEZONE
TZID:Europe/Warsaw
X-LIC-LOCATION:Europe/Warsaw
BEGIN:STANDARD
DTSTART:20191027T020000
TZOFFSETFROM:+0200
TZOFFSETTO:+0100
TZNAME:CET
END:STANDARD
END:VTIMEZONE
END:VCALENDAR