BEGIN:VCALENDAR
VERSION:2.0
PRODID:-//wp-events-plugin.com//7.2.3.1//EN
TZID:Europe/Warsaw
X-WR-TIMEZONE:Europe/Warsaw
BEGIN:VEVENT
UID:36632@night4u.pl
DTSTART;TZID=Europe/Warsaw:20191207T160000
DTEND;TZID=Europe/Warsaw:20191207T180000
DTSTAMP:20191207T211339Z
URL:https://night4u.pl/wydarzenia/mikolajkowy-jazz-tramwaj-vertigo/
SUMMARY:Mikołajkowy Jazz Tramwaj Vertigo
DESCRIPTION:Vertigo Jazz Club &amp\; Restaurant oraz Klub Sympatyków Trans
 portu Miejskiego zapraszają na Jazz Tramwaj Vertigo.\nJuż siódmego grud
 nia zapraszamy na przejażdżkę Jazzowym Tramwajem. Na pokładzie któreg
 o\, spotkacie Państwo wrocławskich muzyków\, którzy pod przewodnictwem
  perkusisty Pawła Nienadowskiego zaprezentują największe standardy jazz
 owe i utwory świąteczne we wspaniałych  aranżacjach. J\nZapraszamy na 
 przejazd Mikołajkowym Jazz Tramwajem Vertigo. \n\nPaweł Nienadowski - Ab
 solwent kierunku Jazz i Muzyka Estradowa na Uniwersytecie Zielonogórskim.
  Obecnie kontynuuje naukę na Akademii Muzycznej im. Karola Lipińskiego w
 e Wrocławiu. Brał udział w wielu warsztatach prowadzonych przez takie o
 sobowości jak Wynton Marsalis\, Kenny Rampton\, Ron Carter\, Greg Osby\, 
 Piotr Wojtasik. Działał na takich festiwalach jak Jazz nad Odrą\, Kroku
 s Jazz Festiwal\, Green Town of Jazz\, Festiwal Piosenki Studenckiej.\n\nK
 lub Sympatyków Transportu Miejskiego powstał w 2011 roku jako niezależn
 a inicjatywa osób związanych ze środowiskiem wrocławskich miłośnikó
 w komunikacji\, a także innych osób żywo zainteresowanych tematyką tra
 nsportu publicznego. Głównymi celami\, jakie sobie wyznaczyli\, jest poz
 yskiwanie i zachowywanie jako zabytków wycofywanych pojazdów komunikacji
  publicznej\, zbieranie eksponatów oraz innych pamiątek związanych z tr
 ansportem zbiorowym\, a także odkrywanie jego historii wraz z dokumentowa
 niem bieżących wydarzeń.\nKlub Sympatyków Transportu Miejskiego jest o
 becnie właścicielem kilkunastu zabytkowych tramwajów i autobusów.
ATTACH;FMTTYPE=image/jpeg:https://night4u.pl/wp-content/uploads/2019/11/10
 0843_image_74911478_2426889830900268_7636062895754706944_o.jpg
CATEGORIES:dolnośląskie
LOCATION:Wroclaw [Wroclove]\, Wroclaw\, 50-107\, Poland
GEO:51.109965;17.031586
X-APPLE-STRUCTURED-LOCATION;VALUE=URI;X-ADDRESS=Wroclaw\, 50-107\, Poland;X
 -APPLE-RADIUS=100;X-TITLE=Wroclaw [Wroclove]:geo:51.109965,17.031586
END:VEVENT
BEGIN:VTIMEZONE
TZID:Europe/Warsaw
X-LIC-LOCATION:Europe/Warsaw
BEGIN:STANDARD
DTSTART:20191027T020000
TZOFFSETFROM:+0200
TZOFFSETTO:+0100
TZNAME:CET
END:STANDARD
END:VTIMEZONE
END:VCALENDAR