BEGIN:VCALENDAR
VERSION:2.0
PRODID:-//wp-events-plugin.com//7.2.3.1//EN
TZID:Europe/Warsaw
X-WR-TIMEZONE:Europe/Warsaw
BEGIN:VEVENT
UID:5977@night4u.pl
DTSTART;TZID=Europe/Warsaw:20190201T220000
DTEND;TZID=Europe/Warsaw:20190202T050000
DTSTAMP:20190131T221055Z
URL:https://night4u.pl/wydarzenia/mikos-in-da-house-x-piatek-1-02/
SUMMARY:Mikos in da House x piątek 1.02
DESCRIPTION:⚜️MIKOS in da house⚜️\n\n⭐️ Ten Pan potrafi jak ma
 ło kto zagrać to co najlepsze\, w piątek wjedzie hip-hop\, funk\, r'n'b
  w mistrzowskim wydaniu???\n\n⭐️ Panie całą noc wchodzą totalnie za
  darmo \n\n⭐️ Do tego nasz piątkowe promo na barze \n\n⭐️ start 2
 2:00 \nwstęp / ze względu na komfort i bezpieczeństwo naszych gości za
 strzegamy sobie prawo do selekcji\n\n☎️692 592 594☎️\n\n?? Do zoba
 czenia w Wysokich??
ATTACH;FMTTYPE=image/jpeg:https://night4u.pl/wp-content/uploads/2019/01/17
 975_image_51502995_2295230004087248_440930366333648896_o.jpg
CATEGORIES:podlaskie
LOCATION:Wysokie Tony\, Marii Skłodowskiej Curie 2\, Białystok\, 15-097\,
  Poland
GEO:53.12982;23.15624
X-APPLE-STRUCTURED-LOCATION;VALUE=URI;X-ADDRESS=Marii Skłodowskiej Curie 2
 \, Białystok\, 15-097\, Poland;X-APPLE-RADIUS=100;X-TITLE=Wysokie Tony:ge
 o:53.12982,23.15624
END:VEVENT
BEGIN:VTIMEZONE
TZID:Europe/Warsaw
X-LIC-LOCATION:Europe/Warsaw
BEGIN:STANDARD
DTSTART:20181028T020000
TZOFFSETFROM:+0200
TZOFFSETTO:+0100
TZNAME:CET
END:STANDARD
END:VTIMEZONE
END:VCALENDAR