BEGIN:VCALENDAR
VERSION:2.0
PRODID:-//wp-events-plugin.com//7.2.3.1//EN
TZID:Europe/Warsaw
X-WR-TIMEZONE:Europe/Warsaw
BEGIN:VEVENT
UID:16389@night4u.pl
DTSTART;TZID=Europe/Warsaw:20190530T180000
DTEND;TZID=Europe/Warsaw:20190530T223000
DTSTAMP:20190517T210656Z
URL:https://night4u.pl/wydarzenia/milonga-na-przystanku-30-v-tango-park-st
 aromiejski-polnocna-12/
SUMMARY:Milonga na Przystanku 30 V TANGO Park Staromiejski Północna 12
DESCRIPTION:Tango w Łodzi. Tango na Starym Mieście w Parku Staromiejskim.
 . \nMilonga na pętli tramwajowej na ul. Północnej 12.\nStart o godz. 18
 \n- LEKCJA Podstaw Tanga lub Praktika - przez pierwszą godzinę - prowadz
 enie Paweł (Milonga)\,  \n- od godz. 19. właściwa impreza\nMUZYKĄ w cz
 asie milongi zaopiekuje się ... \n\nMIEJSCE\, Sala posiada piękny parkie
 t i widok na park Staromiejski. \nPARKING. Miejsc parkingowych jest sporo\
 , będziemy je pokazywać wszystkim zainteresowanym\, bo nie są zlokalizo
 wane w miejscach oczywistych.\nZrzutka po 10 pln\n\ninformacje http://milo
 ngawlodzi.pl/milongi/
ATTACH;FMTTYPE=image/jpeg:https://night4u.pl/wp-content/uploads/2019/05/40
 130_image_60347080_425210698293126_1153581202993577984_n.jpg
CATEGORIES:łódzkie
END:VEVENT
BEGIN:VTIMEZONE
TZID:Europe/Warsaw
X-LIC-LOCATION:Europe/Warsaw
BEGIN:DAYLIGHT
DTSTART:20190331T030000
TZOFFSETFROM:+0100
TZOFFSETTO:+0200
TZNAME:CEST
END:DAYLIGHT
END:VTIMEZONE
END:VCALENDAR