BEGIN:VCALENDAR
VERSION:2.0
PRODID:-//wp-events-plugin.com//7.2.3.1//EN
TZID:Europe/Warsaw
X-WR-TIMEZONE:Europe/Warsaw
BEGIN:VEVENT
UID:48503@night4u.pl
DTSTART;TZID=Europe/Warsaw:20200301T180000
DTEND;TZID=Europe/Warsaw:20200301T210000
DTSTAMP:20200228T194810Z
URL:https://night4u.pl/wydarzenia/milonga-tricitta/
SUMMARY:Milonga Tricitta
DESCRIPTION:Nastrojowe tanga do posłuchania i zatańczenia w Klubie Aquapa
 rk w Sopocie\nWstęp: 20 PLN\nStart: 18:00\nKoniec: 21.00\nW cenie biletu 
 lampka wina\, piwo lub napój bezalkoholowy\n\nTango argentyńskie powsta
 ło na przedmieściach Buenos Aires. Było chwilą oddechu dla najbiedniej
 szych Argentyńczyków. Dzięki temu mogli choć na chwilę zapomnieć o o
 taczającej\, niewesołej rzeczywistości i zatracić się w magii tańca.
 \nChoć może już nie tak niszowe i zatajone\, jak dawniej\, Tango Argent
 yńskie zachowało magiczny charakter. Jest czymś więcej niż tylko tań
 cem\, jest kulturą\, pasją\, dla niektórych całym życiem. Wciąż kwi
 tnie i podbija serca wielu ludzi na całym świecie.\nTo\, co możemy znal
 eźć najpiękniejszego w tangu\, to wolność. Wolność przeżywania\, o
 dczuwania\, emocji\, doznań. Każde tango jest podróżą\, rozmową dwoj
 ga ludzi\, którzy słuchają siebie nawzajem - to czysta przyjemność.\n
 Wystarczą tylko chęci. Poznając Tango Argentyńskie z pozytywnym nastaw
 ieniem sprawisz\, że zagości ono w Twoim sercu na bardzo\, bardzo długo
 \, może już na zawsze?
ATTACH;FMTTYPE=image/jpeg:https://night4u.pl/wp-content/uploads/2020/02/16
 5751_image_88174069_3046002605430437_3811646087786135552_n.jpg
CATEGORIES:pomorskie
LOCATION:Pick&amp\;Roll Club\, ul. Zamkowa Góra 5\, Sopot\, 81-713\, Polan
 d
GEO:54.45994;18.5575
X-APPLE-STRUCTURED-LOCATION;VALUE=URI;X-ADDRESS=ul. Zamkowa Góra 5\, Sopot
 \, 81-713\, Poland;X-APPLE-RADIUS=100;X-TITLE=Pick&Roll Club:geo:54.45994,
 18.5575
END:VEVENT
BEGIN:VTIMEZONE
TZID:Europe/Warsaw
X-LIC-LOCATION:Europe/Warsaw
BEGIN:STANDARD
DTSTART:20191027T020000
TZOFFSETFROM:+0200
TZOFFSETTO:+0100
TZNAME:CET
END:STANDARD
END:VTIMEZONE
END:VCALENDAR