BEGIN:VCALENDAR
VERSION:2.0
PRODID:-//wp-events-plugin.com//7.2.3.1//EN
TZID:Europe/Warsaw
X-WR-TIMEZONE:Europe/Warsaw
BEGIN:VEVENT
UID:5018@night4u.pl
DTSTART;TZID=Europe/Warsaw:20190202T220000
DTEND;TZID=Europe/Warsaw:20190203T050000
DTSTAMP:20190124T164454Z
URL:https://night4u.pl/wydarzenia/milosc-milosc-milosc-%e2%80%a2-tedx-lubl
 in-after/
SUMMARY:Miłość! Miłość! Miłość! • TEDx Lublin After
DESCRIPTION:MIŁOŚĆ w Domu Kultury w sobotę 2 lutego ! ♥ \n\nUbierz mn
 iej\, wypij więcej. \nBankiet z muzyką do kochania\nImpreza jest oficjal
 nym afterem konferencji TEDxLublin 2019 \n\nMuzyka do kochania i tańca :\
 nr'n'b / pop / house / indie dance / klasyki i nowości / 90's & 2019 \nza
 gra Kiano \n\nII sala urban beats GREJTU \nWieczór wspiera Jameson Irish 
 Whiskey \n\nStart 22 / fb free 23 / 15/20 zł / + 21
ATTACH;FMTTYPE=image/jpeg:https://night4u.pl/wp-content/uploads/2019/01/15
 878_image_50477465_2203711243028167_4208897285259526144_o.jpg
CATEGORIES:lubelskie
LOCATION:Dom Kultury\, ul. Krakowskie Przedmieście 19\, Lublin\, 20-002\, 
 Poland
GEO:51.24787;22.56342
X-APPLE-STRUCTURED-LOCATION;VALUE=URI;X-ADDRESS=ul. Krakowskie Przedmieści
 e 19\, Lublin\, 20-002\, Poland;X-APPLE-RADIUS=100;X-TITLE=Dom Kultury:geo
 :51.24787,22.56342
END:VEVENT
BEGIN:VTIMEZONE
TZID:Europe/Warsaw
X-LIC-LOCATION:Europe/Warsaw
BEGIN:STANDARD
DTSTART:20181028T020000
TZOFFSETFROM:+0200
TZOFFSETTO:+0100
TZNAME:CET
END:STANDARD
END:VTIMEZONE
END:VCALENDAR