BEGIN:VCALENDAR
VERSION:2.0
PRODID:-//wp-events-plugin.com//7.2.3.1//EN
TZID:Europe/Warsaw
X-WR-TIMEZONE:Europe/Warsaw
BEGIN:VEVENT
UID:19645@night4u.pl
DTSTART;TZID=Europe/Warsaw:20190628T200000
DTEND;TZID=Europe/Warsaw:20190629T050000
DTSTAMP:20190619T003844Z
URL:https://night4u.pl/wydarzenia/milosc-milosc-milosc-x-jameson/
SUMMARY:Miłość! Miłość! Miłość! x Jameson
DESCRIPTION:MIŁOŚĆ w Plenerze! ? \nUbierz mniej\, wypij więcej. \nBanki
 et z muzyką do kochania!\n\nPiosenki do tańca zagra Gafo & Szabek\nr'n'b
  / pop / house / indie dance / klasyki i nowości \n\nImprezę wspiera whi
 skey JAMESON ? \n\nfb FREE do 23 / 10 zł \n+ 18 \n\n@ REZERWACJE @\nWszys
 tkie informacje dotyczące rezerwacji:\n601-552-013\nagata.mietelska@dklub
 lin.pl\nZe względów bezpieczeństwa\, uczulamy\, żeby nie przechodzić 
 przez ulicę w niedozwolonych miejscach.
ATTACH;FMTTYPE=image/jpeg:https://night4u.pl/wp-content/uploads/2019/06/47
 323_image_62327409_2377764332280374_1113870648339333120_o.jpg
CATEGORIES:lubelskie
LOCATION:PLENER\, Aleja Józefa Piłsudskiego\, Lublin\, 20-406\, Poland
GEO:51.23623;22.565086
X-APPLE-STRUCTURED-LOCATION;VALUE=URI;X-ADDRESS=Aleja Józefa Piłsudskiego
 \, Lublin\, 20-406\, Poland;X-APPLE-RADIUS=100;X-TITLE=PLENER:geo:51.23623
 ,22.565086
END:VEVENT
BEGIN:VTIMEZONE
TZID:Europe/Warsaw
X-LIC-LOCATION:Europe/Warsaw
BEGIN:DAYLIGHT
DTSTART:20190331T030000
TZOFFSETFROM:+0100
TZOFFSETTO:+0200
TZNAME:CEST
END:DAYLIGHT
END:VTIMEZONE
END:VCALENDAR