BEGIN:VCALENDAR
VERSION:2.0
PRODID:-//wp-events-plugin.com//7.2.3.1//EN
TZID:Europe/Warsaw
X-WR-TIMEZONE:Europe/Warsaw
BEGIN:VEVENT
UID:50743@night4u.pl
DTSTART;TZID=Europe/Warsaw:20210506T170000
DTEND;TZID=Europe/Warsaw:20210506T220000
DTSTAMP:20210120T203430Z
URL:https://night4u.pl/wydarzenia/milosna-pulapka-w-bedzinie/
SUMMARY:"Miłosna pułapka" w Będzinie!
DESCRIPTION:6 maja w Będzinie odbędzie się spektakl komediowy "Miłosna 
 pułapka"!\nDwa spektakle odbędą się w Teatrze Dzieci Zagłębia o godz
 .17:00 i 20:00.\nWystąpią: Katarzyna Jamróz\, Agnieszka Mrozińska\, Sy
 lwester Maciejewski i Michał Lesień-Głowacki.\nBilety w cenie 70 zł do
  nabycia online:\nGodz.17:00:\nhttps://biletyna.pl/spektakl/Milosna-pulapk
 a/Bedzin\nGodz.20:00:\nhttps://www.kupbilecik.pl/imprezy/54569/B%C4%99dzin
 /Mi%C5%82osna+Pu%C5%82apka/?fbclid=IwAR3Ca1C97rDkpO5QBPwRJsfQmHRRijedMkdlc
 qjToYtJVcJuqh3bOmcyM1M\n\nJoanna Galewicz jest piękną\, utalentowaną ak
 torką u szczytu kariery. Zmęczona natłokiem obowiązków decyduje się 
 przyjąć zaproszenie do jury w amatorskim przeglądzie teatralnym\, któr
 y odbywa się nad morzem. 40-letni przystojny architekt\, Paweł\, zaprasz
 a Joannę na kolację do domu\, podczas której mają omówić szczegóły
  uczestnictwa w jury festiwalu. Joanna jest pod wrażeniem pięknej willi 
 z widokiem na morze\, oraz gościnności gospodarza. Sytuacja zmienia się
  diametralnie\, kiedy Joanna zamierza wyjść na galę otwarcia przeglądu
  teatralnego. Paweł przyznaje\, że tego dnia ma urodziny\, a na prezent 
 sprawił sobie towarzystwo uwielbianej aktorki. Przyznaje również\, że 
 festiwal i uczestnictwo w jury były podstępem i mistyfikacją. Początko
 wo aktorka nie zdaje sobie sprawy z powagi sytuacji. Zaczyna się bać w c
 hwili\, kiedy orientuje się\, że w całym domu nie ma klamek.\nPaweł je
 st pedantem\, co bardzo utrudnia mu życie. Od lat chodzi na terapię prow
 adzoną przez wybitnego psychiatrę. Charyzmatyczny doktor robi wszystko\,
  co w jego mocy\, żeby pomóc pacjentowi. Jest fanem geniuszu Alberta Ein
 steina i postawił sobie za punkt honoru\, żeby dorównać mistrzowi. Po
 święca się pracy również z innego powodu - chce zapomnieć o kobiecie
 \, która przed laty zostawiła go\, będąc z nim w ciąży.\nKiedy mija 
 pierwszy szok związany z uwięzieniem\, Joanna zaczyna inaczej postrzega
 ć sytuację\, w której się znalazła. Dostrzega szansę na zmianę życ
 ia. Jak to by było mieć u boku kochającego mężczyznę\, cieszyć się
  każdym dniem\, każdą chwilą? Jak to by było odczuwać własne emocje
 \, a nie tylko odtwarzać te zapisane w scenariuszach? Przystojny architek
 t to szansa na miłość. Może to on jest mężczyzną jej życia?\nNapi
 ęcie rośnie\, kiedy z wizytą zapowiada się matka Pawła\, Stefania. Ta
  zaborcza i silna kobieta nie akceptuje żadnej kandydatki na żonę jedyn
 ego syna. Paweł kocha matkę i boi się stawić jej opór. Błaga Joannę
 \, by ta jak najszybciej wyjechała.\nSytuacja zmienia się z minuty na mi
 nutę. Czy na pewno wszystko jest takie\, jak nam się wydaje? Kto w końc
 u jest porywaczem\, a kto porwanym? Wartka akcja\, ekspresyjne\, barwne po
 staci\, które bawią i wzruszają. Do tego cudowna gra aktorska...\nZnako
 mita komedia romantyczna\, która w zaskakujący sposób pokazuje relacje 
 międzyludzkie\, a przede wszystkim odwieczną walkę między kobietą i m
 ężczyzną. Stawką jest prawdziwa miłość. Kim byśmy byli\, gdyby nie
  ona?\nTak jak w życiu\, podobnie między głównymi bohaterami relacje e
 waluują wywołując coraz silniejsze emocje. Czy pokonają strach przed b
 liskością? Czy zdadzą się na instynkt? Czy zrozumieją\, czego chcą o
 d życia i co są gotowi poświęcić\, żeby dostać to\, czego pragną?\
 nA Ty\, co byś zrobił\, gdyby dzisiaj na Twojej drodze stanęła prawdzi
 wa miłość? Jaka by była Twoja odpowiedź?
ATTACH;FMTTYPE=image/jpeg:https://night4u.pl/wp-content/uploads/2020/11/MI
 LOSNA_PULAPKA_male-7.jpg
CATEGORIES:śląskie
LOCATION:Teatr Dzieci Zagłębia\, ul. Teatralna 4\, Będzin\, śląskie\, 
 42-500\, Poland
GEO:50.325687;19.137688
X-APPLE-STRUCTURED-LOCATION;VALUE=URI;X-ADDRESS=ul. Teatralna 4\, Będzin\,
  śląskie\, 42-500\, Poland;X-APPLE-RADIUS=100;X-TITLE=Teatr Dzieci Zagł
 ębia:geo:50.325687,19.137688
END:VEVENT
BEGIN:VTIMEZONE
TZID:Europe/Warsaw
X-LIC-LOCATION:Europe/Warsaw
BEGIN:DAYLIGHT
DTSTART:20210328T030000
TZOFFSETFROM:+0100
TZOFFSETTO:+0200
TZNAME:CEST
END:DAYLIGHT
END:VTIMEZONE
END:VCALENDAR