BEGIN:VCALENDAR
VERSION:2.0
PRODID:-//wp-events-plugin.com//7.2.3.1//EN
TZID:Europe/Warsaw
X-WR-TIMEZONE:Europe/Warsaw
BEGIN:VEVENT
UID:50741@night4u.pl
DTSTART;TZID=Europe/Warsaw:20210415T200000
DTEND;TZID=Europe/Warsaw:20210415T220000
DTSTAMP:20210120T203423Z
URL:https://night4u.pl/wydarzenia/milosna-pulapka-w-piekarach-slaskich/
SUMMARY:"Miłosna pułapka" w Piekarach Śląskich!
DESCRIPTION:15 kwietnia w Piekarach Śląskich odbędzie się spektakl kome
 diowy "Miłosna pułapka"!\nSpektakl odbędzie się w sali widowiskowej Ki
 na Zacisze o godz.20:00.\nWystąpią: Adrianna Biedrzyńska\, Michalina Ro
 bakiewicz\, Sylwester Maciejewski/Jacek Rozenek i Mikołaj Krawczyk.\nBile
 ty w cenie 70 zł do nabycia online na stronie kupbilecik.pl:\n https://w
 ww.kupbilecik.pl/.../Mi%C5%82osna+Pu%C5%82apka/\nJoanna Galewicz jest pię
 kną\, utalentowaną aktorką u szczytu kariery. Zmęczona natłokiem obow
 iązków decyduje się przyjąć zaproszenie do jury w amatorskim przeglą
 dzie teatralnym\, który odbywa się nad morzem. 40-letni przystojny archi
 tekt\, Paweł\, zaprasza Joannę na kolację do domu\, podczas której maj
 ą omówić szczegóły uczestnictwa w jury festiwalu. Joanna jest pod wra
 żeniem pięknej willi z widokiem na morze\, oraz gościnności gospodarza
 . Sytuacja zmienia się diametralnie\, kiedy Joanna zamierza wyjść na ga
 lę otwarcia przeglądu teatralnego. Paweł przyznaje\, że tego dnia ma u
 rodziny\, a na prezent sprawił sobie towarzystwo uwielbianej aktorki. Prz
 yznaje również\, że festiwal i uczestnictwo w jury były podstępem i m
 istyfikacją. Początkowo aktorka nie zdaje sobie sprawy z powagi sytuacji
 . Zaczyna się bać w chwili\, kiedy orientuje się\, że w całym domu ni
 e ma klamek.\nPaweł jest pedantem\, co bardzo utrudnia mu życie. Od lat 
 chodzi na terapię prowadzoną przez wybitnego psychiatrę. Charyzmatyczny
  doktor robi wszystko\, co w jego mocy\, żeby pomóc pacjentowi. Jest fan
 em geniuszu Alberta Einsteina i postawił sobie za punkt honoru\, żeby do
 równać mistrzowi. Poświęca się pracy również z innego powodu - chce
  zapomnieć o kobiecie\, która przed laty zostawiła go\, będąc z nim w
  ciąży.\nKiedy mija pierwszy szok związany z uwięzieniem\, Joanna zacz
 yna inaczej postrzegać sytuację\, w której się znalazła. Dostrzega sz
 ansę na zmianę życia. Jak to by było mieć u boku kochającego mężcz
 yznę\, cieszyć się każdym dniem\, każdą chwilą? Jak to by było odc
 zuwać własne emocje\, a nie tylko odtwarzać te zapisane w scenariuszach
 ? Przystojny architekt to szansa na miłość. Może to on jest mężczyzn
 ą jej życia?\nNapięcie rośnie\, kiedy z wizytą zapowiada się matka P
 awła\, Stefania. Ta zaborcza i silna kobieta nie akceptuje żadnej kandyd
 atki na żonę jedynego syna. Paweł kocha matkę i boi się stawić jej o
 pór. Błaga Joannę\, by ta jak najszybciej wyjechała.\nSytuacja zmienia
  się z minuty na minutę. Czy na pewno wszystko jest takie\, jak nam się
  wydaje? Kto w końcu jest porywaczem\, a kto porwanym? Wartka akcja\, eks
 presyjne\, barwne postaci\, które bawią i wzruszają. Do tego cudowna gr
 a aktorska...\nZnakomita komedia romantyczna\, która w zaskakujący spos
 ób pokazuje relacje międzyludzkie\, a przede wszystkim odwieczną walkę
  między kobietą i mężczyzną. Stawką jest prawdziwa miłość. Kim by
 śmy byli\, gdyby nie ona?\nTak jak w życiu\, podobnie między głównymi
  bohaterami relacje ewaluują wywołując coraz silniejsze emocje. Czy pok
 onają strach przed bliskością? Czy zdadzą się na instynkt? Czy zrozum
 ieją\, czego chcą od życia i co są gotowi poświęcić\, żeby dostać
  to\, czego pragną?\nA Ty\, co byś zrobił\, gdyby dzisiaj na Twojej dro
 dze stanęła prawdziwa miłość? Jaka by była Twoja odpowiedź?
ATTACH;FMTTYPE=image/jpeg:https://night4u.pl/wp-content/uploads/2020/11/MI
 LOSNA_PULAPKA_male-5.jpg
CATEGORIES:śląskie
LOCATION:Kino Zacisze w Piekarach Śląskich\, ul. Bytomska 73\, Piekary Ś
 ląskie\, śląskie\, 41-940\, Poland
GEO:50.37474;18.943574
X-APPLE-STRUCTURED-LOCATION;VALUE=URI;X-ADDRESS=ul. Bytomska 73\, Piekary 
 Śląskie\, śląskie\, 41-940\, Poland;X-APPLE-RADIUS=100;X-TITLE=Kino Za
 cisze w Piekarach Śląskich:geo:50.37474,18.943574
END:VEVENT
BEGIN:VTIMEZONE
TZID:Europe/Warsaw
X-LIC-LOCATION:Europe/Warsaw
BEGIN:DAYLIGHT
DTSTART:20210328T030000
TZOFFSETFROM:+0100
TZOFFSETTO:+0200
TZNAME:CEST
END:DAYLIGHT
END:VTIMEZONE
END:VCALENDAR