BEGIN:VCALENDAR
VERSION:2.0
PRODID:-//wp-events-plugin.com//7.2.3.1//EN
TZID:Europe/Warsaw
X-WR-TIMEZONE:Europe/Warsaw
BEGIN:VEVENT
UID:50744@night4u.pl
DTSTART;TZID=Europe/Warsaw:20210509T160000
DTEND;TZID=Europe/Warsaw:20210509T180000
DTSTAMP:20210120T203434Z
URL:https://night4u.pl/wydarzenia/milosna-pulapka-w-sochaczewie/
SUMMARY:"Miłosna pułapka" w Sochaczewie!
DESCRIPTION:9 maja w Sochaczewie odbędzie się spektakl komediowy "Miłosn
 a pułapka"!\nSpektakl odbędzie się w sali widowiskowej Sochaczewskiego 
 Centrum Kultury o godz.16:00.\nWystąpią: Magda Wójcik\, Alicja Kwiatkow
 ska\, Sylwester Maciejewski i Mikołaj Krawczyk.\nBilety w cenie 80 zł do
  nabycia w SCK oraz online:\nhttps://www.kupbilecik.pl/organizator/miejsca
 /54947/\nhttps://biletyna.pl/spektakl/Milosna-pulapka/Sochaczew\nJoanna Ga
 lewicz jest piękną\, utalentowaną aktorką u szczytu kariery. Zmęczona
  natłokiem obowiązków decyduje się przyjąć zaproszenie do jury w ama
 torskim przeglądzie teatralnym\, który odbywa się nad morzem. 40-letni 
 przystojny architekt\, Paweł\, zaprasza Joannę na kolację do domu\, pod
 czas której mają omówić szczegóły uczestnictwa w jury festiwalu. Joa
 nna jest pod wrażeniem pięknej willi z widokiem na morze\, oraz gościnn
 ości gospodarza. Sytuacja zmienia się diametralnie\, kiedy Joanna zamier
 za wyjść na galę otwarcia przeglądu teatralnego. Paweł przyznaje\, ż
 e tego dnia ma urodziny\, a na prezent sprawił sobie towarzystwo uwielbia
 nej aktorki. Przyznaje również\, że festiwal i uczestnictwo w jury był
 y podstępem i mistyfikacją. Początkowo aktorka nie zdaje sobie sprawy z
  powagi sytuacji. Zaczyna się bać w chwili\, kiedy orientuje się\, że 
 w całym domu nie ma klamek.\nPaweł jest pedantem\, co bardzo utrudnia mu
  życie. Od lat chodzi na terapię prowadzoną przez wybitnego psychiatrę
 . Charyzmatyczny doktor robi wszystko\, co w jego mocy\, żeby pomóc pacj
 entowi. Jest fanem geniuszu Alberta Einsteina i postawił sobie za punkt h
 onoru\, żeby dorównać mistrzowi. Poświęca się pracy również z inne
 go powodu - chce zapomnieć o kobiecie\, która przed laty zostawiła go\,
  będąc z nim w ciąży.\nKiedy mija pierwszy szok związany z uwięzieni
 em\, Joanna zaczyna inaczej postrzegać sytuację\, w której się znalaz
 ła. Dostrzega szansę na zmianę życia. Jak to by było mieć u boku koc
 hającego mężczyznę\, cieszyć się każdym dniem\, każdą chwilą? Ja
 k to by było odczuwać własne emocje\, a nie tylko odtwarzać te zapisan
 e w scenariuszach? Przystojny architekt to szansa na miłość. Może to o
 n jest mężczyzną jej życia?\nNapięcie rośnie\, kiedy z wizytą zapow
 iada się matka Pawła\, Stefania. Ta zaborcza i silna kobieta nie akceptu
 je żadnej kandydatki na żonę jedynego syna. Paweł kocha matkę i boi s
 ię stawić jej opór. Błaga Joannę\, by ta jak najszybciej wyjechała.\
 nSytuacja zmienia się z minuty na minutę. Czy na pewno wszystko jest tak
 ie\, jak nam się wydaje? Kto w końcu jest porywaczem\, a kto porwanym? W
 artka akcja\, ekspresyjne\, barwne postaci\, które bawią i wzruszają. D
 o tego cudowna gra aktorska...\nZnakomita komedia romantyczna\, która w z
 askakujący sposób pokazuje relacje międzyludzkie\, a przede wszystkim o
 dwieczną walkę między kobietą i mężczyzną. Stawką jest prawdziwa m
 iłość. Kim byśmy byli\, gdyby nie ona?\nTak jak w życiu\, podobnie mi
 ędzy głównymi bohaterami relacje ewaluują wywołując coraz silniejsze
  emocje. Czy pokonają strach przed bliskością? Czy zdadzą się na inst
 ynkt? Czy zrozumieją\, czego chcą od życia i co są gotowi poświęcić
 \, żeby dostać to\, czego pragną?\nA Ty\, co byś zrobił\, gdyby dzisi
 aj na Twojej drodze stanęła prawdziwa miłość? Jaka by była Twoja odp
 owiedź?
ATTACH;FMTTYPE=image/jpeg:https://night4u.pl/wp-content/uploads/2020/11/MI
 LOSNA_PULAPKA_male-8.jpg
CATEGORIES:mazowieckie
LOCATION:Sochaczewskie Centrum Kultury\, ul. 15 Sierpnia 83\, Sochaczew\, m
 azowieckie\, 96-515\, Poland
GEO:52.208299;20.220622
X-APPLE-STRUCTURED-LOCATION;VALUE=URI;X-ADDRESS=ul. 15 Sierpnia 83\, Sochac
 zew\, mazowieckie\, 96-515\, Poland;X-APPLE-RADIUS=100;X-TITLE=Sochaczewsk
 ie Centrum Kultury:geo:52.208299,20.220622
END:VEVENT
BEGIN:VTIMEZONE
TZID:Europe/Warsaw
X-LIC-LOCATION:Europe/Warsaw
BEGIN:DAYLIGHT
DTSTART:20210328T030000
TZOFFSETFROM:+0100
TZOFFSETTO:+0200
TZNAME:CEST
END:DAYLIGHT
END:VTIMEZONE
END:VCALENDAR