BEGIN:VCALENDAR
VERSION:2.0
PRODID:-//wp-events-plugin.com//7.2.3.1//EN
TZID:Europe/Warsaw
X-WR-TIMEZONE:Europe/Warsaw
BEGIN:VEVENT
UID:50739@night4u.pl
DTSTART;TZID=Europe/Warsaw:20210305T170000
DTEND;TZID=Europe/Warsaw:20210305T220000
DTSTAMP:20210120T203325Z
URL:https://night4u.pl/wydarzenia/milosna-pulapka-w-wolsztynie/
SUMMARY:"Miłosna pułapka" w Wolsztynie!
DESCRIPTION:5 marca w Wolsztynie odbędzie się spektakl komediowy "Miłosn
 a pułapka"!\nDwa spektakle odbędąsię w sali widowiskowej Wolsztyńskie
 go Domu Kultury o godz.17:00 i 20:00.\nWystąpią: Adrianna Biedrzyńska\,
  Michalina Robakiewicz\, Sylwester Maciejewski i Mikołaj Krawczyk.\nBilet
 y w cenie 70 zł do nabycia w WDK\noraz online na stronie kupbilecik.pl:\n
 Godz.17:00\nhttps://www.kupbilecik.pl/.../Mi%C5%82osna+Pu%C5%82apka/\nGodz
 .20:00\nhttps://www.kupbilecik.pl/imprezy/54452/Wolsztyn/Mi%C5%82osna+Pu%C
 5%82apka/?fbclid=IwAR21hDKMG4jVioSYKw68bBZlG0E5npEyvpZZ1KfgTaGj6VwjP-dp2u9
 CG70\n\nJoanna Galewicz jest piękną\, utalentowaną aktorką u szczytu k
 ariery. Zmęczona natłokiem obowiązków decyduje się przyjąć zaprosze
 nie do jury w amatorskim przeglądzie teatralnym\, który odbywa się nad 
 morzem. 40-letni przystojny architekt\, Paweł\, zaprasza Joannę na kolac
 ję do domu\, podczas której mają omówić szczegóły uczestnictwa w ju
 ry festiwalu. Joanna jest pod wrażeniem pięknej willi z widokiem na morz
 e\, oraz gościnności gospodarza. Sytuacja zmienia się diametralnie\, ki
 edy Joanna zamierza wyjść na galę otwarcia przeglądu teatralnego. Pawe
 ł przyznaje\, że tego dnia ma urodziny\, a na prezent sprawił sobie tow
 arzystwo uwielbianej aktorki. Przyznaje również\, że festiwal i uczestn
 ictwo w jury były podstępem i mistyfikacją. Początkowo aktorka nie zda
 je sobie sprawy z powagi sytuacji. Zaczyna się bać w chwili\, kiedy orie
 ntuje się\, że w całym domu nie ma klamek.\nPaweł jest pedantem\, co b
 ardzo utrudnia mu życie. Od lat chodzi na terapię prowadzoną przez wybi
 tnego psychiatrę. Charyzmatyczny doktor robi wszystko\, co w jego mocy\, 
 żeby pomóc pacjentowi. Jest fanem geniuszu Alberta Einsteina i postawił
  sobie za punkt honoru\, żeby dorównać mistrzowi. Poświęca się pracy
  również z innego powodu - chce zapomnieć o kobiecie\, która przed lat
 y zostawiła go\, będąc z nim w ciąży.\nKiedy mija pierwszy szok zwią
 zany z uwięzieniem\, Joanna zaczyna inaczej postrzegać sytuację\, w kt
 órej się znalazła. Dostrzega szansę na zmianę życia. Jak to by było
  mieć u boku kochającego mężczyznę\, cieszyć się każdym dniem\, ka
 żdą chwilą? Jak to by było odczuwać własne emocje\, a nie tylko odtw
 arzać te zapisane w scenariuszach? Przystojny architekt to szansa na mił
 ość. Może to on jest mężczyzną jej życia?\nNapięcie rośnie\, kied
 y z wizytą zapowiada się matka Pawła\, Stefania. Ta zaborcza i silna ko
 bieta nie akceptuje żadnej kandydatki na żonę jedynego syna. Paweł koc
 ha matkę i boi się stawić jej opór. Błaga Joannę\, by ta jak najszyb
 ciej wyjechała.\nSytuacja zmienia się z minuty na minutę. Czy na pewno 
 wszystko jest takie\, jak nam się wydaje? Kto w końcu jest porywaczem\, 
 a kto porwanym? Wartka akcja\, ekspresyjne\, barwne postaci\, które bawi
 ą i wzruszają. Do tego cudowna gra aktorska...\nZnakomita komedia romant
 yczna\, która w zaskakujący sposób pokazuje relacje międzyludzkie\, a 
 przede wszystkim odwieczną walkę między kobietą i mężczyzną. Stawk
 ą jest prawdziwa miłość. Kim byśmy byli\, gdyby nie ona?\nTak jak w 
 życiu\, podobnie między głównymi bohaterami relacje ewaluują wywołuj
 ąc coraz silniejsze emocje. Czy pokonają strach przed bliskością? Czy 
 zdadzą się na instynkt? Czy zrozumieją\, czego chcą od życia i co są
  gotowi poświęcić\, żeby dostać to\, czego pragną?\nA Ty\, co byś z
 robił\, gdyby dzisiaj na Twojej drodze stanęła prawdziwa miłość? Jak
 a by była Twoja odpowiedź?
ATTACH;FMTTYPE=image/jpeg:https://night4u.pl/wp-content/uploads/2020/11/MI
 LOSNA_PULAPKA_male-3.jpg
CATEGORIES:wielkopolskie
LOCATION:Wolsztyński Dom Kultury\, ul. 5 Stycznia 20 \, Wolsztyn\, wielkop
 olskie\, 64-200\, Poland
GEO:52.116268;16.109874
X-APPLE-STRUCTURED-LOCATION;VALUE=URI;X-ADDRESS=ul. 5 Stycznia 20 \, Wolszt
 yn\, wielkopolskie\, 64-200\, Poland;X-APPLE-RADIUS=100;X-TITLE=Wolsztyńs
 ki Dom Kultury:geo:52.116268,16.109874
END:VEVENT
BEGIN:VTIMEZONE
TZID:Europe/Warsaw
X-LIC-LOCATION:Europe/Warsaw
BEGIN:STANDARD
DTSTART:20201025T020000
TZOFFSETFROM:+0200
TZOFFSETTO:+0100
TZNAME:CET
END:STANDARD
END:VTIMEZONE
END:VCALENDAR