BEGIN:VCALENDAR
VERSION:2.0
PRODID:-//wp-events-plugin.com//7.2.3.1//EN
TZID:Europe/Warsaw
X-WR-TIMEZONE:Europe/Warsaw
BEGIN:VEVENT
UID:49648@night4u.pl
DTSTART;TZID=Europe/Warsaw:20200321T210000
DTEND;TZID=Europe/Warsaw:20200322T050000
DTSTAMP:20200318T200334Z
URL:https://night4u.pl/wydarzenia/mily-pan-%e2%98%85-koncertowa-sobota/
SUMMARY:Miły Pan ★ Koncertowa Sobota
DESCRIPTION:★★★★★ KONCERTOWA SOBOTA ★★★★★\n\nZapraszamy
  Was na wyjątkowy koncert 😃\n\nMiły Pan - Twórca takich hitów jak: 
 \n\n"Małolatki"\, "Królowa" czy "Melanż" już w sobotę 21 marca w Nieb
 ie🔥❗💃\n\n👉 "Małolatki" https://youtu.be/DLXTEOHvryA\n👉 "Mel
 anż" https://www.youtube.com/watch?v=-FsJvDtjJIU\n👉 "Królowa" https:/
 /youtu.be/ngj0Gi_yy3M\n\n2 sale 🔸 2 klimaty muzyczne 🔸 tancerki Heav
 en Girls\n\nDJ WAJS ❌ DJ NEXX  ❌ DJ DIABLO ❌ DJ TOUDII\n\nRezerwacje
  788-658-151 (od 14:00 do 18:00)\n\nBilet 20 PLN | Start 21:00
ATTACH;FMTTYPE=image/jpeg:https://night4u.pl/wp-content/uploads/2020/03/17
 3155_image_89034593_3004031666331282_7435436151495720960_o.jpg
CATEGORIES:wielkopolskie
LOCATION:Heaven Leszno\, Lipowa 6\, Leszno\, 64-100\, Poland
GEO:51.838433;16.574558
X-APPLE-STRUCTURED-LOCATION;VALUE=URI;X-ADDRESS=Lipowa 6\, Leszno\, 64-100\
 , Poland;X-APPLE-RADIUS=100;X-TITLE=Heaven Leszno:geo:51.838433,16.574558
END:VEVENT
BEGIN:VTIMEZONE
TZID:Europe/Warsaw
X-LIC-LOCATION:Europe/Warsaw
BEGIN:STANDARD
DTSTART:20191027T020000
TZOFFSETFROM:+0200
TZOFFSETTO:+0100
TZNAME:CET
END:STANDARD
END:VTIMEZONE
END:VCALENDAR