BEGIN:VCALENDAR
VERSION:2.0
PRODID:-//wp-events-plugin.com//7.2.3.1//EN
TZID:Europe/Warsaw
X-WR-TIMEZONE:Europe/Warsaw
BEGIN:VEVENT
UID:29917@night4u.pl
DTSTART;TZID=Europe/Warsaw:20191108T210000
DTEND;TZID=Europe/Warsaw:20191109T040000
DTSTAMP:20191107T161052Z
URL:https://night4u.pl/wydarzenia/mily-pan-koncert-piatek-08-11-imperium-b
 oleslawiec/
SUMMARY:MIŁY PAN - koncert – piątek 08/11 - Imperium Bolesławiec.
DESCRIPTION:MIŁY PAN 🔥 koncert 💥 piątek 08/11 🔥 Imperium Bolesł
 awiec✔️ Start godz.21✔️\nTego Pana nie trzeba przedstawiać nikomu
 ❗️ Już w piątek 8 listopada na Wasze specjalne życzenie na naszej s
 cenie pojawi się jedyny i niepowtarzalny MIŁY PAN🔥🔥🔥 Podczas ko
 ncertu  usłyszycie jego „Lovesong”\, „Małolatki”\, „Melanż”
  i oczywiście będzie też „Królowa”\, czyli najbardziej hitowy prze
 bój mijającego roku💥Przejdź z nami w imprezowy szał!  Widzimy się 
 już niebawem.\n- Koncert godz. 01-30✔️\n- High School Party. Wstęp 1
 6+✔️ \n- Bilety w dniu koncertu do nabycia w kasie klubu w cenie 20 PL
 N✔️\nRezerwacja loży tel.605436373.\nKONKURS – MIŁY PAN koncert 
 – piątek 08/11‼️‼️‼️\nDo wygrania %%% zestaw startowy i 10 
 wejściówek - wystarczy polubić wydarzenie i zaprosić minimum 100 znajo
 mych\, a w komentarzu należy wpisać zaproszoną ilość osób✔️
ATTACH;FMTTYPE=image/jpeg:https://night4u.pl/wp-content/uploads/2019/10/68
 943_image_72266549_2688542691156062_8663101747889176576_o.jpg
CATEGORIES:dolnośląskie
LOCATION:Klub Imperium\, ul. Gdańska 29\, Bolesławiec\, 59-700\, Poland
GEO:51.260342;15.55112
X-APPLE-STRUCTURED-LOCATION;VALUE=URI;X-ADDRESS=ul. Gdańska 29\, Bolesław
 iec\, 59-700\, Poland;X-APPLE-RADIUS=100;X-TITLE=Klub Imperium:geo:51.2603
 42,15.55112
END:VEVENT
BEGIN:VTIMEZONE
TZID:Europe/Warsaw
X-LIC-LOCATION:Europe/Warsaw
BEGIN:STANDARD
DTSTART:20191027T020000
TZOFFSETFROM:+0200
TZOFFSETTO:+0100
TZNAME:CET
END:STANDARD
END:VTIMEZONE
END:VCALENDAR