BEGIN:VCALENDAR
VERSION:2.0
PRODID:-//wp-events-plugin.com//7.2.3.1//EN
TZID:Europe/Warsaw
X-WR-TIMEZONE:Europe/Warsaw
BEGIN:VEVENT
UID:15290@night4u.pl
DTSTART;TZID=Europe/Warsaw:20190524T210000
DTEND;TZID=Europe/Warsaw:20190525T050000
DTSTAMP:20190509T093753Z
URL:https://night4u.pl/wydarzenia/mily-pan-koncert-tworca-hitow-krolowa-i-
 malolatki/
SUMMARY:Miły Pan // Koncert // Twórca hitów: Królowa i Małolatki
DESCRIPTION:Już 24 maja szykuje się świetna impreza w Pomarańczy.\nKonc
 ert na żywo. A wystąpi MIŁY PAN!!\nTo twórca takich hitów jak:\n"Kró
 lowa"\nhttps://youtu.be/ngj0Gi_yy3M\n\n"Małolatki"\nhttps://youtu.be/DLXT
 EOHvryA\n\n"Melanż"\nhttps://youtu.be/-FsJvDtjJIU\n\nWystarczyło kilka t
 ygodni\, by jego debiutancka piosenka - „Królowa "zdobyła szczyty list
  przebojów. A teledysk do tego utworu artysty znanego jako MiłyPan zdoby
 ł dziesiątki milionów wyświetleń na YT. \nWokalista poszedł za ciose
 m i  nagrał utwór „Małolatki" który  stały się kolejnym hitem. Wyg
 ląda na to\, że narodził nam się prawdziwy król dyskotek!\n\nMiłyPan
  to pseudonim artystyczny Piotra Kołaczyńskiego. Przygodę z muzyką roz
 począł w wieku 17 lat\, początkowo tworząc wyłącznie dla siebie i gr
 ona najbliższych znajomych. \n\nPrzełom nastąpił podczas występu w DI
 SCO STAR\, gdzie po raz pierwszy publicznie zaprezentował swój utwór KR
 ÓLOWA. \nWe wrześniu 2018 roku podpisał kontrakt z wytwórnią LEMON RE
 CORDS.\n\nKRÓLOWA zaczyna podbijać playlisty Radiowe (Vox\, WAWA) i Tele
 wizyjne (PoloTV\, 4FunTV)\, odsłony na YouTube rosną w niesamowitym temp
 ie\, a kalendarz imprezowy powoli się zapełnia. \n\nDziś na YT klip "Kr
 ólowa" ma ponad 55 milionów odsłon.\nKolejne hit MIłegoPana - "Małola
 tki" zbliża się do 40 milionów wyświetleń. \n\nWśród tłumu fanek p
 od sceną zwykle wypatruje swojej starszej siostry - Rodzina jest ze mnie 
 dumna. Kinga kibicuje mi od zawsze\, dlatego to jej chciałbym zadedykowa
 ć swoją karierę- deklaruje Piotrek. \nJak widać mimo ogromnej popularn
 ości\, nadal został fajnym\, normalnym i rodzinnym facetem. \n\nAle na s
 cenie daje z siebie wszystko\, co doceniają fani pod sceną. Dlatego szyk
 ujcie się na wspaniałą imprezę.\n\nOj będzie się działo tej nocy w 
 Pomarańczy. Koniecznie musicie tu być.\n\n\nWSTĘP +17\n\n?????\nPANIE: 
 10zł\nPANOWIE: 15zł\n\nPanie do 21:30: FREE\n\n\n??????\nSala główna: 
 GOULIANO\nSala dance: MAX KOLANKOV\n______________________\n\n✔?????????
  ??? ?????? ?????ń??? ? ??????????\, ? ???ż? ???????? ? ????????!\n\n✔
  Zadzwoń by zarezerwować loże na imprezę: 536 901 907 czynny od wtorku
  do soboty w godzinach od 13:00 do 21:00.
ATTACH;FMTTYPE=image/jpeg:https://night4u.pl/wp-content/uploads/2019/05/37
 779_image_59966559_2204843402885119_8425462809424297984_o.jpg
CATEGORIES:śląskie
LOCATION:Klub Pomarańcza Bielsko-Biała\, Grażyńskiego 38\, Bielsko-Bia
 ła\, 43-382\, Poland
GEO:49.832975;19.049502
X-APPLE-STRUCTURED-LOCATION;VALUE=URI;X-ADDRESS=Grażyńskiego 38\, Bielsko
 -Biała\, 43-382\, Poland;X-APPLE-RADIUS=100;X-TITLE=Klub Pomarańcza Biel
 sko-Biała:geo:49.832975,19.049502
END:VEVENT
BEGIN:VTIMEZONE
TZID:Europe/Warsaw
X-LIC-LOCATION:Europe/Warsaw
BEGIN:DAYLIGHT
DTSTART:20190331T030000
TZOFFSETFROM:+0100
TZOFFSETTO:+0200
TZNAME:CEST
END:DAYLIGHT
END:VTIMEZONE
END:VCALENDAR