BEGIN:VCALENDAR
VERSION:2.0
PRODID:-//wp-events-plugin.com//7.2.3.1//EN
TZID:Europe/Warsaw
X-WR-TIMEZONE:Europe/Warsaw
BEGIN:VEVENT
UID:18359@night4u.pl
DTSTART;TZID=Europe/Warsaw:20190712T200000
DTEND;TZID=Europe/Warsaw:20190713T060000
DTSTAMP:20190605T205412Z
URL:https://night4u.pl/wydarzenia/mily-pan-w-shark-village/
SUMMARY:MIŁY PAN w Shark Village!
DESCRIPTION:Czas na solidny koncert Rekiny!\n12 lipca odwiedzi nas Miły Pa
 n!\n\nMiłyPan to pseudonim wokalisty urodzonego w 1996 roku w Warszawie. 
 Przygodę z muzyką rozpoczął w wieku 17 lat\, początkowo tworząc wył
 ącznie dla siebie i grona najbliższych znajomych. \n\nPrzełom nastąpi
 ł podczas występu w DISCO STAR\, gdzie po raz pierwszy publicznie zaprez
 entował swój utwór KRÓLOWA. Co prawda w programie nie odniósł żadne
 go sukcesu\, ale efekt był lepszy niż gdyby go wygrał. We wrześniu 201
 8 roku podpisał kontrakt z wytwórnią LEMON RECORDS\, a kiedy teledysk d
 o utworu KRÓLOWA osiągnął 4 000 000 odsłon na YouTube\, w internecie 
 wywołała się prawdziwa burza. \n\nDziś ma na swoim koncie szeroko znan
 e hity jak wspomniana wyżej "Królowa"\, ale również "Małolatki"\, "Me
 lanż" czy najświeższy "Lovesong"!\n\nPoza koncertem naszego Gościa spe
 cjalnego możecie oczywiście liczyć na najlepszą selekcję muzyczną od
  naszych DJów!\n\nDJ YOUNG i DJ SZEJQ rozpalą parkiet do czerwoności hi
 tami które na pewno znacie\, a już na niejednej naszej imprezie udowodni
 li\, że wiedzą co lubicie! \;) \n\nEkipa za barem jest również gotowa!
 \nChętnie ugaszą Wasze pragnienie najlepszymi możliwymi trunkami! \;)\n
 \nPamiętajcie więc\, piątek 12 lipca widzimy się w Shark Village!\n\n\
 n#nextcitybreakdestination
ATTACH;FMTTYPE=image/jpeg:https://night4u.pl/wp-content/uploads/2019/06/44
 348_image_61471187_2187734841346886_1066007575742382080_o.jpg
CATEGORIES:lubelskie
LOCATION:Shark Village\, Okuninka\, 22-200\, Poland
GEO:51.500401;23.541805
X-APPLE-STRUCTURED-LOCATION;VALUE=URI;X-ADDRESS=Okuninka\, 22-200\, Poland;
 X-APPLE-RADIUS=100;X-TITLE=Shark Village:geo:51.500401,23.541805
END:VEVENT
BEGIN:VTIMEZONE
TZID:Europe/Warsaw
X-LIC-LOCATION:Europe/Warsaw
BEGIN:DAYLIGHT
DTSTART:20190331T030000
TZOFFSETFROM:+0100
TZOFFSETTO:+0200
TZNAME:CEST
END:DAYLIGHT
END:VTIMEZONE
END:VCALENDAR