BEGIN:VCALENDAR
VERSION:2.0
PRODID:-//wp-events-plugin.com//7.2.3.1//EN
TZID:Europe/Warsaw
X-WR-TIMEZONE:Europe/Warsaw
BEGIN:VEVENT
UID:40337@night4u.pl
DTSTART;TZID=Europe/Warsaw:20200116T200000
DTEND;TZID=Europe/Warsaw:20200116T230000
DTSTAMP:20200116T154817Z
URL:https://night4u.pl/wydarzenia/mindthra-remove-flying-hammer-experiment
 -alive-wroclaw-16-01/
SUMMARY:Mindthra\, Remove\, Flying Hammer Experiment - Alive Wrocław 16.01
DESCRIPTION:Zapraszamy na święto metalowych riffów. Już 16.01.2020 w kl
 ubie "Alive" zagraja dla Was MINDTHRA promująca swoje najnowsze wydawnict
 wo "Final Disaster" oraz Flying Hammer Experiment i Remove. \n\nMINDTHRA\n
 Nowość na lokalnej scenie muzycznej. Progresywno-metalowy projekt wypeł
 niony po brzegi tłustymi riff'ami\, melodyjnymi refrenami i elektroniczny
 mi wstawkami. Zespół gra autorską muzykę inspirowaną zespołami takim
 i jak Monuments\, TesseracT\, Periphery\, Disturbed\, Fellsilent\, Gojira\
 , Tool\, Machine Head - podsumowując złożona rytmika\, lecz wszechobecn
 y groove.\n\nPosłuchaj najnowszych singli: \n\n"Sacrifice" - https://yout
 u.be/2xl--xszQgc\n"Punishment" - https://youtu.be/_fHFoCjMvII\n\nRemove\nR
 emove wyczyści twój twardy dysk i zapełni go energetycznym i elektryzuj
 ącym grunge-punk-metalem ze sporą dawką elektroniki oraz etnicznych dź
 więków. W 2016 roku zespół wydał swoją debiutancką płytę o wszyst
 ko mówiącym tytule “rm –rf” a w 2017 roku zagrał na Slot Art Fest
 iwal. W 2018 rok zespół wszedł  z nowym składem i nową energią.\n\nF
 acebook: https://www.facebook.com/removecompl/\nYoutube: http://www.youtub
 e.com/c/removecompl/\nSpotify: https://open.spotify.com/album/1fWKQHtd1HOp
 EFCWG2ilJy\n\nFlying Hammer Experiment\nZespół muzyczny z Kędzierzyna -
  Koźla grający metal/hardcore inspirowany muzyką z lat '90.\n\nYouTube:
  https://www.youtube.com/user/FHEband666\n\nData: 16/01/2020\nBramka: 19:0
 0\nStart: 20:00 \nBilety w cenie 15zł do nabycia w dniu koncertu
ATTACH;FMTTYPE=image/jpeg:https://night4u.pl/wp-content/uploads/2019/12/12
 1713_image_79443848_875833426152427_6218435122106990592_o.jpg
CATEGORIES:dolnośląskie
LOCATION:Alive\, ul. Kolejowa 12\, Wroclaw\, 53-508\, Poland
GEO:51.10138;17.02286
X-APPLE-STRUCTURED-LOCATION;VALUE=URI;X-ADDRESS=ul. Kolejowa 12\, Wroclaw\,
  53-508\, Poland;X-APPLE-RADIUS=100;X-TITLE=Alive:geo:51.10138,17.02286
END:VEVENT
BEGIN:VTIMEZONE
TZID:Europe/Warsaw
X-LIC-LOCATION:Europe/Warsaw
BEGIN:STANDARD
DTSTART:20191027T020000
TZOFFSETFROM:+0200
TZOFFSETTO:+0100
TZNAME:CET
END:STANDARD
END:VTIMEZONE
END:VCALENDAR