BEGIN:VCALENDAR
VERSION:2.0
PRODID:-//wp-events-plugin.com//7.2.3.1//EN
TZID:Europe/Warsaw
X-WR-TIMEZONE:Europe/Warsaw
BEGIN:VEVENT
UID:22959@night4u.pl
DTSTART;TZID=Europe/Warsaw:20190807T200000
DTEND;TZID=Europe/Warsaw:20190807T230000
DTSTAMP:20190724T170158Z
URL:https://night4u.pl/wydarzenia/mise-en-scene-belgia/
SUMMARY:Mise en Scene Belgia
DESCRIPTION:Myślisz\, że Belgowie dobrzy są w robieniu piw? oczywiście 
 ale obczaj sobie ich scenę muzyczną i taki zespół jak Mise en Scene cz
 yli belgijska wariacja na temat muzyki ska\, punk w wersji nonetowej!\n\nB
 ędą puzony\, trąby i mnóstwo energii!!!\n\nz kwestii technicznej to zu
 pełnie mam pojęcia gdzie ich pomieścić ale coś się wymyśli \, jak z
 wykle....
ATTACH;FMTTYPE=image/jpeg:https://night4u.pl/wp-content/uploads/2019/07/54
 256_image_67274496_2291051221011128_5449154308425646080_n.jpg
CATEGORIES:wielkopolskie
LOCATION:Amore del Tropico\, Ratajczaka 26/2\, Poznan\, 61-815\, Poland
GEO:52.405425;16.925737
X-APPLE-STRUCTURED-LOCATION;VALUE=URI;X-ADDRESS=Ratajczaka 26/2\, Poznan\, 
 61-815\, Poland;X-APPLE-RADIUS=100;X-TITLE=Amore del Tropico:geo:52.405425
 ,16.925737
END:VEVENT
BEGIN:VTIMEZONE
TZID:Europe/Warsaw
X-LIC-LOCATION:Europe/Warsaw
BEGIN:DAYLIGHT
DTSTART:20190331T030000
TZOFFSETFROM:+0100
TZOFFSETTO:+0200
TZNAME:CEST
END:DAYLIGHT
END:VTIMEZONE
END:VCALENDAR