BEGIN:VCALENDAR
VERSION:2.0
PRODID:-//wp-events-plugin.com//7.2.3.1//EN
TZID:Europe/Warsaw
X-WR-TIMEZONE:Europe/Warsaw
BEGIN:VEVENT
UID:38347@night4u.pl
DTSTART;TZID=Europe/Warsaw:20191207T220000
DTEND;TZID=Europe/Warsaw:20191208T060000
DTSTAMP:20200401T082119Z
URL:https://night4u.pl/wydarzenia/miskolajki-7-12/
SUMMARY:Miśkołajki | 7.12
DESCRIPTION:Miśkołajki  z Bears of Poland w Papudze. \n\n. \n\nBawimy si
 ę oczywiście na dwóch salach.\n \nZagrają:\nT-Jay\n@Leeway.\n\n\n_____
 _____\nStart imprezy godzina 22:00\nWstęp: 10 zł | Karty klubowe wstęp 
 free przez całą noc\nDo godz. 24:00 za okazaniem legitymacji uczniowskie
 j\, studenckiej wstęp free\nZ kartą członkowską BOP wstęp free przez 
 całą noc \n\n\nClub Papuga\nul. Dietla 64
ATTACH;FMTTYPE=image/jpeg:https://night4u.pl/wp-content/uploads/2019/12/10
 9655_image_77147096_433096137377618_3488040320875102208_o.jpg
CATEGORIES:małopolskie
LOCATION:Club Papuga\, Józefa Dietla 64\, Kraków\, 33-332\, Poland
GEO:50.054521;19.943522
X-APPLE-STRUCTURED-LOCATION;VALUE=URI;X-ADDRESS=Józefa Dietla 64\, Kraków
 \, 33-332\, Poland;X-APPLE-RADIUS=100;X-TITLE=Club Papuga:geo:50.054521,19
 .943522
END:VEVENT
BEGIN:VTIMEZONE
TZID:Europe/Warsaw
X-LIC-LOCATION:Europe/Warsaw
BEGIN:STANDARD
DTSTART:20191027T020000
TZOFFSETFROM:+0200
TZOFFSETTO:+0100
TZNAME:CET
END:STANDARD
END:VTIMEZONE
END:VCALENDAR