BEGIN:VCALENDAR
VERSION:2.0
PRODID:-//wp-events-plugin.com//7.2.3.1//EN
TZID:Europe/Warsaw
X-WR-TIMEZONE:Europe/Warsaw
BEGIN:VEVENT
UID:44147@night4u.pl
DTSTART;TZID=Europe/Warsaw:20201212T110000
DTEND;TZID=Europe/Warsaw:20201213T070000
DTSTAMP:20200504T092128Z
URL:https://night4u.pl/wydarzenia/mistrzostwa-polski-djow-2020-clubsound-d
 js-cup/
SUMMARY:Mistrzostwa Polski Dj'ów 2020 Clubsound DJ's CUP !
DESCRIPTION:Zapraszamy na kolejną edycję Mistrzostw Polski Dj'ów 2020 Cl
 ubsound DJ's CUP\,  które ponownie odbędą się w Explosion Club w Warsz
 awie. Po raz kolejny wzbudzamy ducha rywalizacji oraz dajemy jedyną szans
 ę na uzyskanie tytułu Mistrza Polski Dj'ów ! \nSzczegółowe informacje
  już niebawem !
ATTACH;FMTTYPE=image/jpeg:https://night4u.pl/wp-content/uploads/2020/01/14
 1974_image_83050556_2752120181498461_2055197015695949824_o.jpg
CATEGORIES:mazowieckie
LOCATION:Explosion Club\, Wał Miedzeszyński 646\, Gocław\, 03-994\, Pola
 nd
GEO:52.221503;21.084759
X-APPLE-STRUCTURED-LOCATION;VALUE=URI;X-ADDRESS=Wał Miedzeszyński 646\, G
 ocław\, 03-994\, Poland;X-APPLE-RADIUS=100;X-TITLE=Explosion Club:geo:52.
 221503,21.084759
END:VEVENT
BEGIN:VTIMEZONE
TZID:Europe/Warsaw
X-LIC-LOCATION:Europe/Warsaw
BEGIN:STANDARD
DTSTART:20201025T020000
TZOFFSETFROM:+0200
TZOFFSETTO:+0100
TZNAME:CET
END:STANDARD
END:VTIMEZONE
END:VCALENDAR