BEGIN:VCALENDAR
VERSION:2.0
PRODID:-//wp-events-plugin.com//7.2.3.1//EN
TZID:Europe/Warsaw
X-WR-TIMEZONE:Europe/Warsaw
BEGIN:VEVENT
UID:41075@night4u.pl
DTSTART;TZID=Europe/Warsaw:20200120T190000
DTEND;TZID=Europe/Warsaw:20200120T220000
DTSTAMP:20200331T191259Z
URL:https://night4u.pl/wydarzenia/mistrzuniu-impro-balwanie-wojny/
SUMMARY:Mistrzuniu Impro — Bałwanie Wojny
DESCRIPTION:🍌 Po raz kolejny 12 zawodników staje do walki\n🍌 W serii
  scenek\, wyzwań\, komediowych skeczy\n🍌 Rywalizując o BaNaNę*\n🍌
  Wygrać może tylko jeden!\n🍌 Podejmiesz wyzwanie?\n\nZapraszamy na st
 arcie tytanów komedii. W trzech zaciekłych rundach zawodnicy będą walc
 zyć między sobą na śmiech i życie — a wy oceniacie kto rozbawił wa
 s najbardziej.\nKto zostanie mistrzuniem Stycznia? 🤩\n\n➡️ 5 ZŁOTY
 CH z każdego biletu przeznaczamy na Zupa na Wolności. Dzięki za wsparci
 e! 💓\n\n👉👉BILETY W CENIE U10zł/N15zł 👈👈\ndo nabycia onlin
 e: https://bit.ly/379rtGF\n(ulgowe dla studentów\, uczniów i seniorów)\
 noraz  przed wejściem. Przyjmujemy płatności kartą.\n\n➡️ IMPROWIZ
 OWANE PONIEDZIAŁKI\nJesteśmy zespołem komików\, improwizatorów\, opow
 iadaczy\, słowem ludzi których zjednoczyła chęć opowiedzenia wesołej
  historii na scenie i zamienienia poniedziałku w trzeci dzień weekendu. 
 Gramy co tydzień za każdym razem zaskakując tematem i formą\,\nZaprasz
 amy!\n\n➡️ Wspierają nas:\nRadio Wrocław Kultura\nRadio RAM\nWroclif
 e\n🍌\n\n*Bardzo Nadzwyczajna Nagroda
ATTACH;FMTTYPE=image/jpeg:https://night4u.pl/wp-content/uploads/2019/12/12
 7583_image_81369417_1431377233698836_7920759862441541632_o.jpg
CATEGORIES:dolnośląskie
LOCATION:PUB Schody Donikąd\, Plac Solny 13\, Wroclaw\, 50-061\, Poland
GEO:51.10906;17.02869
X-APPLE-STRUCTURED-LOCATION;VALUE=URI;X-ADDRESS=Plac Solny 13\, Wroclaw\, 5
 0-061\, Poland;X-APPLE-RADIUS=100;X-TITLE=PUB Schody Donikąd:geo:51.10906
 ,17.02869
END:VEVENT
BEGIN:VTIMEZONE
TZID:Europe/Warsaw
X-LIC-LOCATION:Europe/Warsaw
BEGIN:STANDARD
DTSTART:20191027T020000
TZOFFSETFROM:+0200
TZOFFSETTO:+0100
TZNAME:CET
END:STANDARD
END:VTIMEZONE
END:VCALENDAR