BEGIN:VCALENDAR
VERSION:2.0
PRODID:-//wp-events-plugin.com//7.2.3.1//EN
TZID:Europe/Warsaw
X-WR-TIMEZONE:Europe/Warsaw
BEGIN:VEVENT
UID:9208@night4u.pl
DTSTART;TZID=Europe/Warsaw:20190318T190000
DTEND;TZID=Europe/Warsaw:20190318T210000
DTSTAMP:20190307T234541Z
URL:https://night4u.pl/wydarzenia/mistrzuniu-impro-wiosna-komedii/
SUMMARY:Mistrzuniu impro - wiosna komedii!
DESCRIPTION:?Do walki staje 12 zawodników\n?W serii scenek\, wyzwań\, kom
 ediowych skeczy\n?rywalizują o BaNaNę*\n?Wygrać może tylko jeden!\n\n?
 ?Zapraszamy na starcie tytanów komedii. W trzech rundach zawodnicy walcz
 ą między sobą\, wy oceniacie kto rozbawił was najbardziej. To będzie 
 pojedynek na śmiech i życie!\n\n??BILETY W CENIE U10zł/N15zł ??\n(ulgo
 we dla studentów\, uczniów i seniorów)\ndo nabycia przed wejściem. Prz
 yjmujemy płatności kartą.\n\n?5 ZŁOTYCH z każdego biletu przeznaczamy
  na leczenie Korneli Jóskowiak\, dziewczynki chorej na białaczkę. Dzię
 ki za wsparcie!\n\n?W trakcie Mistrzunia Impro każdy może wskoczyć na s
 cenę i stanąć w szranki lub pozostać na widowni i decydować kto zwyci
 ęży.\n\n?Podczas Mistrzunia Impro prezentujemy różne popularne i niezw
 ykłe gry impro\, Jeżeli masz jakąś propozycję na grę podczas wieczor
 u\, napisz do nas!\n\n?IMPROWIZOWANE PONIEDZIAŁKI?\nJesteśmy zespołem k
 omików\, improwizatorów\, opowiadaczy\, słowem ludzi których zjednoczy
 ła chęć opowiedzenia wesołej historii na scenie i zamienienia poniedzi
 ałku w trzeci dzień weekendu. Gramy co tydzień za każdym razem zaskaku
 jąc tematem i formą\,\nZapraszamy!\n\nWspierają nas:\nRadio Wrocław Ku
 ltura\nTuWroclaw.com\nRadio RAM\nWroclife\n\n*Bardzo Nadzwyczajną Nagrod
 ę
ATTACH;FMTTYPE=image/jpeg:https://night4u.pl/wp-content/uploads/2019/03/24
 971_image_53382598_1199261433577085_6094556690353487872_o.jpg
CATEGORIES:dolnośląskie
LOCATION:PUB Schody Donikąd\, Plac Solny 13\, Wroclaw\, 50-061\, Poland
GEO:51.10906;17.02869
X-APPLE-STRUCTURED-LOCATION;VALUE=URI;X-ADDRESS=Plac Solny 13\, Wroclaw\, 5
 0-061\, Poland;X-APPLE-RADIUS=100;X-TITLE=PUB Schody Donikąd:geo:51.10906
 ,17.02869
END:VEVENT
BEGIN:VTIMEZONE
TZID:Europe/Warsaw
X-LIC-LOCATION:Europe/Warsaw
BEGIN:STANDARD
DTSTART:20181028T020000
TZOFFSETFROM:+0200
TZOFFSETTO:+0100
TZNAME:CET
END:STANDARD
END:VTIMEZONE
END:VCALENDAR