BEGIN:VCALENDAR
VERSION:2.0
PRODID:-//wp-events-plugin.com//7.2.3.1//EN
TZID:Europe/Warsaw
X-WR-TIMEZONE:Europe/Warsaw
BEGIN:VEVENT
UID:20868@night4u.pl
DTSTART;TZID=Europe/Warsaw:20190706T210000
DTEND;TZID=Europe/Warsaw:20190707T050000
DTSTAMP:20190703T150139Z
URL:https://night4u.pl/wydarzenia/mixtee-dj-set-nie-tak-grzecznie-jak-mysl
 isz/
SUMMARY:Mixtee DJ set / Nie tak grzecznie jak myślisz!
DESCRIPTION:Najbardziej nieustraszona kobieta jaką znamy... zawładnie nas
 zą sceną już w najbliższą sobotę! Kto już kiedyś bawił się u nas
  podczas jej wizyty... wie\, że może się spodziewać ekstremalnych wra
 żeń na parkiecie :D ogień\, petarda\, rakieta i inne tego typu pojęcia
  nie są jej obce :) \nuwaga! Mogą wystąpić zakwasy :D\n\nwsparciem dla
  Mixtee będzie nasz rezydent Marcin S. oraz gość DJ Bitek 
ATTACH;FMTTYPE=image/jpeg:https://night4u.pl/wp-content/uploads/2019/07/49
 943_image_65885405_2434931989907233_5158354734377074688_o.jpg
CATEGORIES:świętokrzyskie
LOCATION:MASKA Incognito Club\, Rynek 5\, Kielce\, 25-303\, Poland
GEO:50.871945;20.632092
X-APPLE-STRUCTURED-LOCATION;VALUE=URI;X-ADDRESS=Rynek 5\, Kielce\, 25-303\,
  Poland;X-APPLE-RADIUS=100;X-TITLE=MASKA Incognito Club:geo:50.871945,20.6
 32092
END:VEVENT
BEGIN:VTIMEZONE
TZID:Europe/Warsaw
X-LIC-LOCATION:Europe/Warsaw
BEGIN:DAYLIGHT
DTSTART:20190331T030000
TZOFFSETFROM:+0100
TZOFFSETTO:+0200
TZNAME:CEST
END:DAYLIGHT
END:VTIMEZONE
END:VCALENDAR