BEGIN:VCALENDAR
VERSION:2.0
PRODID:-//wp-events-plugin.com//7.2.3.1//EN
TZID:Europe/Warsaw
X-WR-TIMEZONE:Europe/Warsaw
BEGIN:VEVENT
UID:44063@night4u.pl
DTSTART;TZID=Europe/Warsaw:20200213T210000
DTEND;TZID=Europe/Warsaw:20200214T000000
DTSTAMP:20200331T151127Z
URL:https://night4u.pl/wydarzenia/mizeria-koncert/
SUMMARY:Mizeria / koncert
DESCRIPTION:Mizeria – sałatka z zielonych ogórków najczęściej wystę
 puje z dodatkiem zsiadłego mleka\, choć bywają także wersje z olejem i
  pieprzem lub z sokiem z cytryny i cukrem.\n\nSkładniki: \nNatalia Juszcz
 yszyn\nMichał Moper Wilczyński \nTomasz Garbera\nWojciech Charytonowicz\
 n\nPowyższe ogórki są zdecydowanie  zwolennikami konsumowania mizerii z
 e śmietaną! \n\nBilety do nabycia w lokalu przed wydarzeniem w cenie 10 
 pln :)
ATTACH;FMTTYPE=image/jpeg:https://night4u.pl/wp-content/uploads/2020/01/14
 1709_image_82401982_2771936099515931_383869535372967936_o.jpg
CATEGORIES:dolnośląskie
LOCATION:Nietota\, ul.Kazimierza Wielkiego 50\, Wroclaw\, 50-078\, Poland
GEO:51.107699;17.031693
X-APPLE-STRUCTURED-LOCATION;VALUE=URI;X-ADDRESS=ul.Kazimierza Wielkiego 50\
 , Wroclaw\, 50-078\, Poland;X-APPLE-RADIUS=100;X-TITLE=Nietota:geo:51.1076
 99,17.031693
END:VEVENT
BEGIN:VTIMEZONE
TZID:Europe/Warsaw
X-LIC-LOCATION:Europe/Warsaw
BEGIN:STANDARD
DTSTART:20191027T020000
TZOFFSETFROM:+0200
TZOFFSETTO:+0100
TZNAME:CET
END:STANDARD
END:VTIMEZONE
END:VCALENDAR