BEGIN:VCALENDAR
VERSION:2.0
PRODID:-//wp-events-plugin.com//7.2.3.1//EN
TZID:Europe/Warsaw
X-WR-TIMEZONE:Europe/Warsaw
BEGIN:VEVENT
UID:38908@night4u.pl
DTSTART;TZID=Europe/Warsaw:20200111T200000
DTEND;TZID=Europe/Warsaw:20200111T230000
DTSTAMP:20200111T173839Z
URL:https://night4u.pl/wydarzenia/mlodyskiny-mlody-yerba-maly-elvis-l-11-0
 1-20-l-hydrozagadka/
SUMMARY:Mlodyskiny\, młody yerba\, maly elvis l 11.01.20 l Hydrozagadka
DESCRIPTION:UWAGA - informacje organizacyjne:\n1. Drzwi klubu otwieramy o 1
 9:00\n2. Przy wejściu proszę mieć przygotowaną legitymację lub dowód
  tożsamości i bilet\, usprawni to wpuszczanie.\n3. Wstęp do klubu od 16
  roku życia (ukończone 16 lat w dniu koncertu). Osoby poniżej 16 rż. n
 ie mogą wejść na koncert także z pełnoletnim opiekunem.\n4. Osoby od 
 16 do 18 r.ż - wejście za okazaniem zgody rodzica lub opiekuna prawnego.
  Link do dokumentu:\nhttp://tiny.cc/0jg9gz\n5. Będzie można kupić bilet
 y na bramce w klubie od 19:00 w cenie 45pln (płatne tylko gotówką).\nDo
  zobaczenia!\n\nDistorted Agency prezentuje:\n\nKoncert premierowy promuj
 ący najnowsze nagrania mlodyskiny\, młody yerba i maly elvis\n\nCZASÓWK
 A:\n19:00 drzwi\n19:30 blind.scream warm-up\n20:00 start koncertu\n\nmlody
 skiny będzie świętował ukazanie się 6 grudnia albumu *WASTE* z które
 go pochodzą single "Crystal Tears" i "992".\nmłody yerba świeżo po pre
 mierze singla "Gdzie nie uciekniesz" zapowiadającego album w 2020 roku.\n
 maly elvis zagra z okazji wydania albumu "Adulthood".\n\nNie zabraknie tak
 że starszych utworów i niespodzianek.\n\nWSTĘP +16  ZA OKAZANIEM DOWODU
  TOŻSAMOŚCI\nOSOBY MIEDZY 16 A 18 RŻ - WSTĘP TYLKO ZA ZGODĄ RODZICÓW
 .\nREGULAMIN: http://tiny.cc/9cnkiz\nWZÓR ZGODY: http://tiny.cc/0jg9gz
ATTACH;FMTTYPE=image/jpeg:https://night4u.pl/wp-content/uploads/2019/12/11
 2044_image_78296776_3482088688482799_2844166045361504256_o.jpg
CATEGORIES:mazowieckie
LOCATION:Klub Hydrozagadka\, 11 listopada 22\, 03-436 Warszawa\, Poland\, P
 raga\, 03-436\, Poland
GEO:52.259283;21.036925
X-APPLE-STRUCTURED-LOCATION;VALUE=URI;X-ADDRESS=11 listopada 22\, 03-436 Wa
 rszawa\, Poland\, Praga\, 03-436\, Poland;X-APPLE-RADIUS=100;X-TITLE=Klub 
 Hydrozagadka:geo:52.259283,21.036925
END:VEVENT
BEGIN:VTIMEZONE
TZID:Europe/Warsaw
X-LIC-LOCATION:Europe/Warsaw
BEGIN:STANDARD
DTSTART:20191027T020000
TZOFFSETFROM:+0200
TZOFFSETTO:+0100
TZNAME:CET
END:STANDARD
END:VTIMEZONE
END:VCALENDAR