BEGIN:VCALENDAR
VERSION:2.0
PRODID:-//wp-events-plugin.com//7.2.3.1//EN
TZID:Europe/Warsaw
X-WR-TIMEZONE:Europe/Warsaw
BEGIN:VEVENT
UID:21856@night4u.pl
DTSTART;TZID=Europe/Warsaw:20190713T220000
DTEND;TZID=Europe/Warsaw:20190714T050000
DTSTAMP:20190709T223728Z
URL:https://night4u.pl/wydarzenia/mlodzi-piekni-bezrobotni-impreza-dla-inf
 luencerow-sobota/
SUMMARY:Młodzi\, piękni\, bezrobotni - impreza dla influencerów / Sobota
DESCRIPTION:#POLISHGIRL\n#POLISHBOY\n\nW związku z ostatnim hejtem wymierz
 onym w influencerów zwracamy się do Was z pomocną dłonią. W sobotę w
 ejdziecie do Cooltury za darmo. Wóda do ryja też będzie za darmo. Toale
 ta płatna 2 PLN lub stories w lustrze. Nie można wchodzić parami.\n\n
 ‣ Perrit x Gru - hostů z České Republiky. Knedliki\, Kofola i house m
 usic prosto z Pragi. Nóżka sama chodzi! ??\n\n--------------------------
 ------------------------\nSpragniony wrażeń? → http://bit.ly/Cooltural
 naKartaKoktajlowa\n\n・Start 22:00.\n・Wstęp tylko dla osób pełnoletn
 ich.\n・Selekcja na wejściu - organizator może odmówić wejścia do kl
 ubu.
ATTACH;FMTTYPE=image/jpeg:https://night4u.pl/wp-content/uploads/2019/07/51
 802_image_66756322_1316062041905442_5359602891684315136_o.jpg
CATEGORIES:pomorskie
LOCATION:Cooltura Chmielna 101\, Chmielna 101\, Gdansk\, 80-748\, Poland
GEO:54.34722;18.65729
X-APPLE-STRUCTURED-LOCATION;VALUE=URI;X-ADDRESS=Chmielna 101\, Gdansk\, 80-
 748\, Poland;X-APPLE-RADIUS=100;X-TITLE=Cooltura Chmielna 101:geo:54.34722
 ,18.65729
END:VEVENT
BEGIN:VTIMEZONE
TZID:Europe/Warsaw
X-LIC-LOCATION:Europe/Warsaw
BEGIN:DAYLIGHT
DTSTART:20190331T030000
TZOFFSETFROM:+0100
TZOFFSETTO:+0200
TZNAME:CEST
END:DAYLIGHT
END:VTIMEZONE
END:VCALENDAR