BEGIN:VCALENDAR
VERSION:2.0
PRODID:-//wp-events-plugin.com//7.2.3.1//EN
TZID:Europe/Warsaw
X-WR-TIMEZONE:Europe/Warsaw
BEGIN:VEVENT
UID:48445@night4u.pl
DTSTART;TZID=Europe/Warsaw:20200228T220000
DTEND;TZID=Europe/Warsaw:20200229T040000
DTSTAMP:20200228T190725Z
URL:https://night4u.pl/wydarzenia/mojito-party-nitro-club-nysa/
SUMMARY:Mojito Party // Nitro Club Nysa
DESCRIPTION:Zapraszamy na kolejną imprezkę z cyklu "Mojito Party".\nJak z
 awsze drink Mojito w SUPER CENIE !\n12 zł zamiast 17 zł &lt\;3\n\nRezyde
 nt: Dj Diaz\nRezerwacje: 510 919 157\nStart: 22:00
ATTACH;FMTTYPE=image/jpeg:https://night4u.pl/wp-content/uploads/2020/02/16
 5638_image_87320167_2736281873093459_7091460359722106880_o.jpg
CATEGORIES:opolskie
LOCATION:Nitro Club Nysa\, Nysa\, Poland
GEO:50.480313;17.339196
X-APPLE-STRUCTURED-LOCATION;VALUE=URI;X-ADDRESS=Nysa\, Poland;X-APPLE-RADIU
 S=100;X-TITLE=Nitro Club Nysa:geo:50.480313,17.339196
END:VEVENT
BEGIN:VTIMEZONE
TZID:Europe/Warsaw
X-LIC-LOCATION:Europe/Warsaw
BEGIN:STANDARD
DTSTART:20191027T020000
TZOFFSETFROM:+0200
TZOFFSETTO:+0100
TZNAME:CET
END:STANDARD
END:VTIMEZONE
END:VCALENDAR