BEGIN:VCALENDAR
VERSION:2.0
PRODID:-//wp-events-plugin.com//7.2.3.1//EN
TZID:Europe/Warsaw
X-WR-TIMEZONE:Europe/Warsaw
BEGIN:VEVENT
UID:38875@night4u.pl
DTSTART;TZID=Europe/Warsaw:20200207T200000
DTEND;TZID=Europe/Warsaw:20200207T220000
DTSTAMP:20200331T154624Z
URL:https://night4u.pl/wydarzenia/molly-shoegaze-austria-we-wroclawiu/
SUMMARY:MOLLY [Shoegaze\, Austria] + Bukowicz we Wrocławiu!
DESCRIPTION:Przychodzimy z receptą na długie\, zimowe wieczory. W piątek
 \, 7 lutego zaprezentuje się zespół\, który musieliśmy zaprosić. Sen
 ny post-rock\, shoegaze\, dream pop\, muzyczne mistrzostwo świata.\n\n- M
 OLLY (Austria)\n\nhttps://www.facebook.com/pg/wearemolly\nhttps://wearemol
 ly.com/\nhttps://wearemolly.bandcamp.com/\n\nAbsolutnie hipnotyzujący\, s
 ubtelny\, pełen uniesień i doskonale wyważony shoegaze. Młodzi muzycy 
 pochodzący z Innsbrucka w Austrii: Lars Andersson i Phillip Dornauer udow
 adniają\, że 2 osoby na scenie w zupełności wystarczą\, by oczarować
  słuchaczy.\n\nZadebiutowali w 2017 roku EP-ką "Glimpse"\, znakomicie pr
 zyjętą przez krytyków i lokalne kluby. W czerwcu 2019 roku ukazał się
  ich pierwszy longplay pt. "All That Ever Could Have Been". Zapierająca d
 ech w piersi muzyczna przygoda rozpoczyna się 15-minutowym kawałkiem\, p
 o którym słuchacz już ma ochotę popaść w bezkres melancholii\, ale h
 istoria trwa dalej. Sprytnie wplecione elementy klawiszy\, idealnie buduj
 ąca napięcie perkusja\, głośne\, momentami niepokojące riffy i ten ni
 esamowity wokal. Nie będziemy ich do nikogo porównywać\, musicie posłu
 chać. \n\n- Bukowicz (Rybnik)\n\nhttps://www.facebook.com/pg/bukowicz\nht
 tps://bukowicz.bandcamp.com/album/dyskomfort-w-g-owie \n\nPowiew zimnej fa
 li w połączeniu z shoegazem i dream popem. Zespół tworzą: Jakub Bucze
 k (wokal\, gitara)\, Aneta Maciaszczyk (klawisze\, wokal\, sampler)\, Mich
 ał Warzecha (bas). Jesienią 2018 r ukazała się długogrająca płyta "
 Dyskomfort w głowie". Polskie teksty\, melodyjne gitary\, nietuzinkowe wo
 kale\, ciężkie bity i dynamiczny bas - tego się możecie spodziewać.\n
 "Debiut Bukowicza powinniśmy umieścić w kategorii muzycznej psychoanali
 zy\, która przydałaby się każdemu\, bo chyba każdy wie\, co oznacza 
 „Dyskomfort w głowie”. Terapii poddajecie się na własną odpowiedzi
 alność\, ale zaręczam\, że warto to ryzyko podjąć. “​ [Aleksandr
 a Budka\, radiowa Trójka]\n\n++++++++++++++\n\n7.02.20 (piątek)\nD.K. Lu
 ksus\nWita Stwosza 16\, Wrocław\n\nstart: 20:00\nbilety: 25zł - do kupie
 nia tylko na bramce w dniu koncertu!
ATTACH;FMTTYPE=image/jpeg:https://night4u.pl/wp-content/uploads/2019/12/11
 1902_image_78593935_448870439143954_413638065370693632_o.jpg
CATEGORIES:dolnośląskie
LOCATION:D.K. Luksus\, Wita Stwosza 16\, Wroclaw\, 50-148\, Poland
GEO:51.10958;17.03678
X-APPLE-STRUCTURED-LOCATION;VALUE=URI;X-ADDRESS=Wita Stwosza 16\, Wroclaw\,
  50-148\, Poland;X-APPLE-RADIUS=100;X-TITLE=D.K. Luksus:geo:51.10958,17.03
 678
END:VEVENT
BEGIN:VTIMEZONE
TZID:Europe/Warsaw
X-LIC-LOCATION:Europe/Warsaw
BEGIN:STANDARD
DTSTART:20191027T020000
TZOFFSETFROM:+0200
TZOFFSETTO:+0100
TZNAME:CET
END:STANDARD
END:VTIMEZONE
END:VCALENDAR