BEGIN:VCALENDAR
VERSION:2.0
PRODID:-//wp-events-plugin.com//7.2.3.1//EN
TZID:Europe/Warsaw
X-WR-TIMEZONE:Europe/Warsaw
BEGIN:VEVENT
UID:48625@night4u.pl
DTSTART;TZID=Europe/Warsaw:20200321T213000
DTEND;TZID=Europe/Warsaw:20200322T070000
DTSTAMP:20200314T044720Z
URL:https://night4u.pl/wydarzenia/mom-i-can-fly-x-prozak-2-0/
SUMMARY:Mom I Can Fly x Prozak 2.0
DESCRIPTION:ROLLERCOASTER BY LA FLAME\n \nMamy za sobą najcieplejsza zimę
  od dawna\, wiec czas podgrzać atmosferę w 2.0 jeszcze bardziej. Już 21
  marca odpalamy w Prozaku pierwszy melanż z muzyka Cactus Jacka! Nowi fan
 i Travisa rozpoznają zarówno bangery z najnowszego LP Travisa oraz Rodeo
 \, a dla prawdziwych DAY1S wrzucimy na playlistę takie bangery jak Blocka
  La Flame czy Quintana. Pamiętajcie\, że wieczór ten spędzimy nie tylk
 o moshujac przy Travisie\, ale również dorzucając do ognia wszystkich a
 rtystów z jego wytwórni Cactus Jack! Don Toliver\, Sheck Wes\, Luxury Ta
 x plus Quavo\, z którym nagrał jedna z najnowszych płyt\, będą na rot
 acji az do rana. Podróż zaczynamy już o 21:30\, a wszyscy znający mocn
 iejsze melanze na -1 mogą przygotować się na noc z gatunku HOT HOT HOT 
 (feat. Gunna).\n \nJeżeli chcesz wbić całą noc na parkiet ze free\, ws
 kakuj w swoje dunki lub tees Wish You Were Here\, bo wszystkie osoby w mer
 chu La Flame dokladnie za taka cene wchodza do 2.0 az do rana!\n \nR RATED
  | PARENTAL ADVISORY EXPLICIT CONTENT\n\n[-1] Mom I Can Fly\nZesty Zest\nD
 J Sky\nTBA\n\nDo 22:00: wejście FREE dla osób “biorących udział” w
  wydarzeniu.\nPo 22:00: 10/ 20 PLN.\n\n---\n\nSince winter this year seems
  to be the hottest one in recent memory\, it presents an opportunity to tu
 rn the heat up in Cracow’s own Prozak 2.0! 21st of March we invite you t
 o the first edition of a crazy rollercoaster ride done by fans of Travis S
 cott. All the fresh and new fans will recognize a lot of bangers from Cact
 us Jack’s newest LP or Rodeo\, however we’ve prepared something specia
 l for all the Day1s – you’ll hear Blocka La Flame or Quintana for sure
 .\n \nKeep in mind that this night you’ll moshpit not only to La Flame 
 – Don Toliver\, Sheck Wes and other members from his label will be heard
  till the morning. We’re starting at 9:30 PM so prepare for a night only
  described as HOT HOT HOT (feat. Gunna).\n \nOne more thing – if you wan
 t to entry free\, grab from your closed a pair of dunks or Wish You Were H
 ere t-shirt and just wait in line. People flexin’ merch from Travis – 
 free up 4:00 AM.\n \nR RATED | PARENTAL ADVISORY EXPLICIT CONTENT\n\n[-1] 
 Eastside Boyz\nZesty Zest\nDJ Sky\nTBA\n\nBy 10:00pm: FREE entry for Faceb
 ook “going” list.\nAfter 10:00pm: 10/ 20 PLN.
ATTACH;FMTTYPE=image/jpeg:https://night4u.pl/wp-content/uploads/2020/02/16
 6076_image_87324998_2849506665110064_4066949049918423040_o.jpg
CATEGORIES:małopolskie
LOCATION:Prozak 2.0\, Plac Dominikański 6\, Kraków\, 31-032\, Poland
GEO:50.058986;19.938203
X-APPLE-STRUCTURED-LOCATION;VALUE=URI;X-ADDRESS=Plac Dominikański 6\, Krak
 ów\, 31-032\, Poland;X-APPLE-RADIUS=100;X-TITLE=Prozak 2.0:geo:50.058986,
 19.938203
END:VEVENT
BEGIN:VTIMEZONE
TZID:Europe/Warsaw
X-LIC-LOCATION:Europe/Warsaw
BEGIN:STANDARD
DTSTART:20191027T020000
TZOFFSETFROM:+0200
TZOFFSETTO:+0100
TZNAME:CET
END:STANDARD
END:VTIMEZONE
END:VCALENDAR