BEGIN:VCALENDAR
VERSION:2.0
PRODID:-//wp-events-plugin.com//7.2.3.1//EN
TZID:Europe/Warsaw
X-WR-TIMEZONE:Europe/Warsaw
BEGIN:VEVENT
UID:43141@night4u.pl
DTSTART;TZID=Europe/Warsaw:20200120T220000
DTEND;TZID=Europe/Warsaw:20200121T060000
DTSTAMP:20200121T041219Z
URL:https://night4u.pl/wydarzenia/monday-latino-teatro-cubano-kakao-events
 -23/
SUMMARY:Monday Latino! Teatro Cubano &amp\; Kakao Events!
DESCRIPTION:Monday Latino! Teatro Cubano Kraków &amp\; Kakao Events!\n\nTe
 atro Cubano zaprasza na nowy cykl imprez o nazwie "Monday Latino". \nŁąc
 zymy siły ze znaną krakowska marką Kakao Events i razem gwarantujemy ni
 ezapomnianą noc w każdy poniedziałek!\n\nDla posiadaczy kart Kakao czek
 ają tego wieczoru specjalne promocję!\n\nWstęp jak zawsze DARMOWY!\nZap
 raszamy!
ATTACH;FMTTYPE=image/jpeg:https://night4u.pl/wp-content/uploads/2020/01/13
 7942_image_82649730_1576746045810152_4885365870013972480_o-1.jpg
CATEGORIES:małopolskie
LOCATION:Teatro Cubano Krakow - Resto & Rum Bar\, Jagiellońska 10\, Krakó
 w\, 31-010\, Poland
GEO:50.062064;19.934683
X-APPLE-STRUCTURED-LOCATION;VALUE=URI;X-ADDRESS=Jagiellońska 10\, Kraków\
 , 31-010\, Poland;X-APPLE-RADIUS=100;X-TITLE=Teatro Cubano Krakow - Resto 
 & Rum Bar:geo:50.062064,19.934683
END:VEVENT
BEGIN:VTIMEZONE
TZID:Europe/Warsaw
X-LIC-LOCATION:Europe/Warsaw
BEGIN:STANDARD
DTSTART:20191027T020000
TZOFFSETFROM:+0200
TZOFFSETTO:+0100
TZNAME:CET
END:STANDARD
END:VTIMEZONE
END:VCALENDAR