BEGIN:VCALENDAR
VERSION:2.0
PRODID:-//wp-events-plugin.com//7.2.3.1//EN
TZID:Europe/Warsaw
X-WR-TIMEZONE:Europe/Warsaw
BEGIN:VEVENT
UID:15244@night4u.pl
DTSTART;TZID=Europe/Warsaw:20190510T210000
DTEND;TZID=Europe/Warsaw:20190511T040000
DTSTAMP:20190507T203956Z
URL:https://night4u.pl/wydarzenia/money-shower-%e2%98%85-strzelamy-kasa-2/
SUMMARY:MONEY SHOWER ★ Strzelamy kasą!
DESCRIPTION:MONEY SHOWER ★ Strzelamy kasą! \nPT 10.05.19 ☆ ENERGY 2000
  PRZYTKOWICE\nJesteście naprawdę zwariowani i lubicie szaloną zabawę?!
  Uwaga! bo najbardziej zwariowana impreza Waszego życia dopiero nadchodzi
 ! Już w piątek 10 maja przygotujcie się na prysznic kasy! Tej nocy w po
 wietrze wystrzelimy 10 000 zł w ENERGICZNEJ KASIE*! Czegoś takiego jeszc
 ze tutaj nie było! Spodziewajcie się niesamowitych efektów specjalnych\
 , masy nagród\, atrakcji i energicznej muzy! \n*Energiczna kasa do wykorz
 ystania w barach klubu.\n\nUWAGA! Dla pierwszych 1000 osób firmowy gadże
 t w prezencie!\n\nZagrają: \nMain Stage: Thomas | Don Pablo & Daniels\nSa
 la Dance: DeSebastiano & Discotek\nSala VIP: Skrzypa\n\nBilet: 10 PLN | Wi
 ek: +16 lat | Start: 21:00\n\nPROMOCJA / URODZINY/KAWALERSKIE/PANIEŃSKIE 
 - AKTYWNA. Zasady promocji znajdziesz w naszym FAQ.\n\nRezerwacja loży: O
 N-LINE: Dla zarejestrowanych i po zalogowaniu na naszej stronie www\, w za
 kładce: KLUB/REZERWACJE lub TELEFONICZNIE pod nr. 33 876 88 12 wew.23 od 
 pon. do pt. w godz. 8-16. Sobota (15:00 – 19:00) pod nr.tel. 609 539 580
ATTACH;FMTTYPE=image/jpeg:https://night4u.pl/wp-content/uploads/2019/05/37
 676_image_57852585_2297778730268560_1236558802921193472_o.jpg
CATEGORIES:małopolskie
LOCATION:Energy 2000 Przytkowice\, Przytkowice 532 a\, Przytkowice\, 34-141
 \, Poland
GEO:49.902767;19.693146
X-APPLE-STRUCTURED-LOCATION;VALUE=URI;X-ADDRESS=Przytkowice 532 a\, Przytko
 wice\, 34-141\, Poland;X-APPLE-RADIUS=100;X-TITLE=Energy 2000 Przytkowice:
 geo:49.902767,19.693146
END:VEVENT
BEGIN:VTIMEZONE
TZID:Europe/Warsaw
X-LIC-LOCATION:Europe/Warsaw
BEGIN:DAYLIGHT
DTSTART:20190331T030000
TZOFFSETFROM:+0100
TZOFFSETTO:+0200
TZNAME:CEST
END:DAYLIGHT
END:VTIMEZONE
END:VCALENDAR