BEGIN:VCALENDAR
VERSION:2.0
PRODID:-//wp-events-plugin.com//7.2.3.1//EN
TZID:Europe/Warsaw
X-WR-TIMEZONE:Europe/Warsaw
BEGIN:VEVENT
UID:43303@night4u.pl
DTSTART;TZID=Europe/Warsaw:20200118T163000
DTEND;TZID=Europe/Warsaw:20200118T180000
DTSTAMP:20200331T192212Z
URL:https://night4u.pl/wydarzenia/monodram-everygirl-extragirl-w-klubie-po
 d-jaszczurami/
SUMMARY:Monodram „Everygirl/Extragirl" w Klubie pod Jaszczurami
DESCRIPTION:Gdy Everygirl nieporadnie przygotowuje poranną herbatę\, Extr
 agirl beznamiętnie rozbraja bombę podłożoną pod szpital. Kiedy Everyg
 irl znów zacina się kserokopiarką\, Extragirl podnosi wykolejony tramwa
 j. Gdy Everygirl\, w zatłoczonym autobusie\, znosi niechciany dotyk\, Ext
 ragirl upaja się społecznym aplauzem\, za uratowanie kota z drzewa. Z je
 dnej strony widzimy obraz kobiety pokornej\, delikatnej\, rodem z Harlequi
 nowskich fantazji\, którą ludzie starają się otoczyć opieką. A może
  jednak podporządkować? Z drugiej strony mamy obraz pewnej siebie\, potr
 afiącej wszystko kobiety\, cieszącej się powszechnym aplauzem i szacunk
 iem społeczeństwa. Ale jednocześnie budzącej strach wśród złych i d
 obrych mężczyzn. Czy mogą to być twarze tej samej osoby?\n\nWystąpi: 
 Anna Kądziołka\nScenariusz: Robert Traczyk\n\nZ wielką przyjemnością 
 zapraszamy was na monodram\, który jest realizacją projektu studentów Z
 arządzania Kulturą i Mediami na Uniwersytecie Jagiellońskim.\nMamy nadz
 ieję\, że zawita do nas jak największa liczba chętnych :)\n\nGdzie? Kl
 ub pod Jaszczurami\, Rynek Główny 8\, Kraków\nKiedy? 18 stycznia 2020\,
  godz. 16:30\nPo ile? Wstęp wolny!\n\nZachęcamy również do kupowania n
 apojów na barze oraz uczestniczenia w innych wydarzeniach tego klubu!
ATTACH;FMTTYPE=image/jpeg:https://night4u.pl/wp-content/uploads/2020/01/13
 8354_image_81343255_109170980608788_2075604939349950464_o.png
CATEGORIES:małopolskie
END:VEVENT
BEGIN:VTIMEZONE
TZID:Europe/Warsaw
X-LIC-LOCATION:Europe/Warsaw
BEGIN:STANDARD
DTSTART:20191027T020000
TZOFFSETFROM:+0200
TZOFFSETTO:+0100
TZNAME:CET
END:STANDARD
END:VTIMEZONE
END:VCALENDAR