BEGIN:VCALENDAR
VERSION:2.0
PRODID:-//wp-events-plugin.com//7.2.3.1//EN
TZID:Europe/Warsaw
X-WR-TIMEZONE:Europe/Warsaw
BEGIN:VEVENT
UID:43483@night4u.pl
DTSTART;TZID=Europe/Warsaw:20200307T220000
DTEND;TZID=Europe/Warsaw:20200308T050000
DTSTAMP:20200307T054537Z
URL:https://night4u.pl/wydarzenia/moooooj-jest-ten-kawalek-podlogi-2/
SUMMARY:Móóóóój jest ten kawałek podłogi!
DESCRIPTION:Móóóóój jest ten kawałek podłogi!\nNie mówcie mi więc 
 co mam robić... \;)\n\nNa parkiecie czekają na Was: pociągi\, kółeczk
 a i kankany.\nO godz. 2:00 kultowe oczepiny.\nPrzez całą noc: fotobudka\
 , szampan\, stolik wiejski i najlepsza muzyka weselna.\n\n♥♥♥♥♥
 ♥♥♥♥♥♥♥♥♥♥♥♥♥♥♥♥♥♥♥\n▬▬▬▬▬
 ▬▬▬▬▬▬▬▬▬▬▬▬▬▬▬▬▬▬▬▬▬▬▬\n\nW
 stęp:\n[18+] - wyłącznie za okazaniem dokumentu tożsamości\n\n22:00-2
 3:00 (Lista Fb) - free\nPozostali - 10/20 PLN\n\n✮ Karty klubowe Gorzko 
 Gorzko - darmowy wstęp przez całą noc (jedna/uniwersalna karta do wszys
 tkich naszych lokali) ✮\n\nBez stroju formalnego\, ubierz się tak jak C
 i wygodnie.\nRzecz jasna nie zakładamy dresów\, bojówek\, itp. strojów
 \, które zostawiamy sobie na wypad na domek za miasto.\n\n▬▬▬▬▬
 ▬▬▬▬▬▬▬▬▬▬▬▬▬▬▬▬▬▬▬▬▬▬▬\n\nG
 orzko Gorzko Szczecin to klub\, w którym w każdy Piątek i Sobotę odbyw
 ają się dyskoteki weselne.\nWodzirej\, fotobudka\, muzyka i zabawy wesel
 ne\, przekąski oraz powitalny szampan.\nTo tylko część z atrakcji\, kt
 órych u nas doświadczycie.\n\nHej wesele\, hej wesele tańcowało... !
ATTACH;FMTTYPE=image/jpeg:https://night4u.pl/wp-content/uploads/2020/01/13
 9021_image_83242299_2482858365175807_8619798538991173632_o.jpg
CATEGORIES:zachodniopomorskie
LOCATION:Gorzko Gorzko Szczecin\, Kardynała Stefana Wyszyńskiego 14\, Szc
 zecin\, 70-001\, Poland
GEO:53.423945;14.552926
X-APPLE-STRUCTURED-LOCATION;VALUE=URI;X-ADDRESS=Kardynała Stefana Wyszyńs
 kiego 14\, Szczecin\, 70-001\, Poland;X-APPLE-RADIUS=100;X-TITLE=Gorzko Go
 rzko Szczecin:geo:53.423945,14.552926
END:VEVENT
BEGIN:VTIMEZONE
TZID:Europe/Warsaw
X-LIC-LOCATION:Europe/Warsaw
BEGIN:STANDARD
DTSTART:20191027T020000
TZOFFSETFROM:+0200
TZOFFSETTO:+0100
TZNAME:CET
END:STANDARD
END:VTIMEZONE
END:VCALENDAR