BEGIN:VCALENDAR
VERSION:2.0
PRODID:-//wp-events-plugin.com//7.2.3.1//EN
TZID:Europe/Warsaw
X-WR-TIMEZONE:Europe/Warsaw
BEGIN:VEVENT
UID:6846@night4u.pl
DTSTART;TZID=Europe/Warsaw:20190407T190000
DTEND;TZID=Europe/Warsaw:20190407T220000
DTSTAMP:20190210T152555Z
URL:https://night4u.pl/wydarzenia/morawska-brama-wieczor-czeskich-bardow-w
 -starym-klasztorze/
SUMMARY:Morawska Brama - wieczór czeskich bardów w Starym Klasztorze!
DESCRIPTION:Morawska Brama - wieczór czeskich bardów w Starym Klasztorze!
 \n\nMiłośników czeskiej kultury zapraszamy 7 kwietnia na koncert Moraws
 ka Brama z udziałem zespołu Chwila Nieuwagi\, Kuby Blokesza i Jiriego Kr
 huta. W programie wieczoru  piosenki z repertuaru czeskich artystów - od 
 Jaromira Nohavicy\, przez Karela Kryla\, Karela Plihala\, zespół Cechomo
 r\,  aż po współczesne zespoły folk-rockowe: Poletime\, Jelen\, Raduza
  i inne.\n\nMorawska Brama (wyrwa w beskidzkim murze) potraktowana jest tu
  jako wrota\, przez które przepływa do nas kultura czeska oraz do Czech 
 polska\, łącząc się na Śląsku. Artyści zreinterpretowali te piosenk
 i i przepuścili przez własną fantazję i wyobraźnię. Część piosene
 k śpiewana jest w oryginale po czesku\, a część po polsku. Koncertowi 
 "Morawska Brama" towarzyszą wizualizacje oraz fragmenty czeskiej literatu
 ry czytane przez lektora. W repertuar wplatane są również znane z czesk
 ich wieczorynek motywy muzyczne. Całość jest różnorodna : momentami n
 ostalgiczna\, a chwilami dowcipna\, i szalona. Wszystko tak\, bo oddać se
 dno "czeskości" i humoru naszych sąsiadów.\n\nGość specjalny: Jiri Kr
 hut - wokalista\, tekściarz\, instrumentalista\, a nade wszystko aktorski
  talent satyryczny\, współtwórca (z Jaromirem Nohavicą i Robertem Kuś
 mierskim) ostrawskiego Kabaretu BO. Jego obecność wprowadza do koncertu 
 nieopisaną wręcz dozę humoru\, a publiczność wprawia w radosny szał.
 \n\nGrupa Chwila Nieuwagi pochodzi z Górnego Śląska i wykonuje muzykę 
 stanowiącą mieszankę folku śląskiego w nowoczesnym wydaniu\, jazzu\, 
 ballady\, piosenki poetyckiej. Do tego nietypowego „miszungu” zespół
  dodaje element rozrywki\, dowcipu i młodzieńczej fantazji\, dzięki cze
 mu zyskuje świetny kontakt z publicznością\, która nie nudzi się ani 
 przez chwilę. \nChwila Nieuwagi to zespół nagradzany na najbardziej pre
 stiżowych festiwalach piosenki folkowej i poetyckiej w Polsce (Festiwal P
 iosenki Studenckiej w Krakowie\, dwukrotny udział w finale Folkowy Festiw
 al Polskiego Radia Nowa Tradycja\, YAPA w Łodzi\, Festiwal im. Wojtka Bel
 lona i kilkadziesiąt innych). W 2017 roku Chwila Nieuwagi została wytypo
 wana do reprezentowania Polski na Międzynarodowym Festiwalu Folkowym Czec
 h Music Crossroads w Ostravie.\nW swoim dorobku grupa ma trzy studyjne kr
 ążki: „Niepoprawna muzyka” (2011)\, „Miszung” (2013) oraz „Ani
 eli śpiewają” (2016)\, album live "Morawska Brama" (2018)\, a także u
 dział w kilkunastu składankach muzycznych.\n\nKuba Blokesz to śpiewają
 cy i grający na gitarze autor\, laureat kilkunastu festiwali piosenki. Ma
  za sobą debiut fonograficzny pt. „Lwów. Szkice Miejskie”(2015) oraz
  współpracę z wybitnymi artystami\, takimi jak Andrzej Poniedzielski\, 
 Elżbieta Adamiak\, Roman Kołakowski czy Stefan Brzozowski. \n\n7.04.19 g
 odz.19.00 Sala Gotycka w Starym Klasztorze\, ul. Purkyniego 1\nMORAWSKA BR
 AMA - wieczór czeskich bardów\nmiejsca siedzące: 35  zł – przedsprze
 daż\, 40  zł – w dniu koncertu\nmiejsca stojące: 25 zł – przedsprz
 edaż\, 30 zł – w dniu koncertu\n\nBilety dostępne w sieci salonów Em
 pik i MediaMarkt w całej Polsce\noraz w serwisach: www.staryklasztor.com.
 pl/bilety/\, www.biletin.pl\, www.biletyna.pl\, www.eventim.pl\, www.ebile
 t.pl\, www.kupbilecik.pl\, www.empikbilety.pl \nrezerwacje: bilety@o2.pl\n
 \nUwaga\, kupuj bilety wyłącznie w autoryzowanych punktach! \nZakup bile
 tów poza autoryzowanymi punktami sprzedaży (Facebook\, aukcje internetow
 e\, systemy odsprzedaży biletów itp.) stwarza ryzyko zakupu biletów nie
 oryginalnych lub nieważnych\, które nie umożliwią wejścia na koncert.
ATTACH;FMTTYPE=image/jpeg:https://night4u.pl/wp-content/uploads/2019/02/19
 984_image_49165508_2002787816503010_2467423845007491072_n.jpg
CATEGORIES:dolnośląskie
LOCATION:Stary Klasztor\, Purkyniego 1\, Wroclaw\, 50-155\, Poland
GEO:51.110198;17.039162
X-APPLE-STRUCTURED-LOCATION;VALUE=URI;X-ADDRESS=Purkyniego 1\, Wroclaw\, 50
 -155\, Poland;X-APPLE-RADIUS=100;X-TITLE=Stary Klasztor:geo:51.110198,17.0
 39162
END:VEVENT
BEGIN:VTIMEZONE
TZID:Europe/Warsaw
X-LIC-LOCATION:Europe/Warsaw
BEGIN:DAYLIGHT
DTSTART:20190331T030000
TZOFFSETFROM:+0100
TZOFFSETTO:+0200
TZNAME:CEST
END:DAYLIGHT
END:VTIMEZONE
END:VCALENDAR