BEGIN:VCALENDAR
VERSION:2.0
PRODID:-//wp-events-plugin.com//7.2.3.1//EN
TZID:Europe/Warsaw
X-WR-TIMEZONE:Europe/Warsaw
BEGIN:VEVENT
UID:40829@night4u.pl
DTSTART;TZID=Europe/Warsaw:20191227T213000
DTEND;TZID=Europe/Warsaw:20191228T040000
DTSTAMP:20191227T182948Z
URL:https://night4u.pl/wydarzenia/more-love-dred/
SUMMARY:More Love / Dred
DESCRIPTION:Najbliższy piątek będzie kolejnym spotkaniem z naszym  turnt
 ablistycznym świrem Dredem🎧 \, który jak zawsze odwiedzi Nas z głow
 ą pełną pomysłów i naładowany pozytywną energią !😃\nKażde show
  z jego udziałem okraszone jest sporą dawką scratch'y 🎶! \nWpadnijci
 e potupać 💃 nóżką razem z Nami! 😉\nDo zobaczenia przy barze ♥\
 n\nStart:21:30🕤\nMusic:Dj Dred🎧 \nDress Code / Door Selection👔
 👗\nRezerwacja: rezerwacje@scandalezakopane.pl📧
ATTACH;FMTTYPE=image/jpeg:https://night4u.pl/wp-content/uploads/2019/12/12
 5295_image_79834851_1527124780774471_8349489931789271040_o.jpg
CATEGORIES:małopolskie
LOCATION:Le Scandale Zakopane\, Zaruskiego 5 · Zakopane\, Zakopane\, 34-50
 0\, Poland
GEO:49.294475;19.950227
X-APPLE-STRUCTURED-LOCATION;VALUE=URI;X-ADDRESS=Zaruskiego 5 · Zakopane\, 
 Zakopane\, 34-500\, Poland;X-APPLE-RADIUS=100;X-TITLE=Le Scandale Zakopane
 :geo:49.294475,19.950227
END:VEVENT
BEGIN:VTIMEZONE
TZID:Europe/Warsaw
X-LIC-LOCATION:Europe/Warsaw
BEGIN:STANDARD
DTSTART:20191027T020000
TZOFFSETFROM:+0200
TZOFFSETTO:+0100
TZNAME:CET
END:STANDARD
END:VTIMEZONE
END:VCALENDAR