BEGIN:VCALENDAR
VERSION:2.0
PRODID:-//wp-events-plugin.com//7.2.3.1//EN
TZID:Europe/Warsaw
X-WR-TIMEZONE:Europe/Warsaw
BEGIN:VEVENT
UID:30272@night4u.pl
DTSTART;TZID=Europe/Warsaw:20191005T220000
DTEND;TZID=Europe/Warsaw:20191005T220000
DTSTAMP:20191003T234735Z
URL:https://night4u.pl/wydarzenia/morocho-x-mam-talent-x-saturday-5-10/
SUMMARY:Morocho x MAM TALENT x Saturday // 5.10
DESCRIPTION:★ CABALLEROS NOCHE ★ \n\nEl CUBANO \n[ul. Traugutta 3] Łó
 dź \n\nTylko u nas gorące kubańskie noce w każdy wekend 🔥\nKaraibsk
 ie klimaty\, latynoska muzyka\, rum\, salsa\, egzotyczni tancerze... \n\n-
 > Data: 5 PAŹDZIERNIKA  2019\, Friday! \n-> Start: 22:00\, bawimy się do
  rana!\n\n\nMOROCHO !! \n\nSINGER from MAM TALENT \n\nDJ: \n★ Endrigue R
 amirez Morales \n\nSzkoła Tańca Urban Dance Zone - największa szkoła t
 ańca w Łodzi. Od 10 lat specjalizuje się m.in. w nauczaniu Salsy\, Bach
 aty\, Kizomby oraz technik pokrewnych. Gromadzi wielu specjalistów oraz p
 asjonatów tego rodzaju tańca oraz muzyki. Otwarta 7 dni w tygodniu.\n\nw
 ww.urbandance.pl\nhttps://www.facebook.com/urbandancezone/\n\nPROMO: \n☀
  CUBA LIBRE 12 zł \n☀ MOJITO 14 zł\n\n\n\nWSTĘP: 15 zł \nDRESS CODE:
  cuban vibe\n\nREZERWACJE: \ntel. +48 508 - 508 - 488.\n\n🔥🔥 Najgor
 ętszy parkiet w samym centrum Łodzi. Będzie goroąco. !! 🔥🔥\n\nLo
 s amigos ♥
ATTACH;FMTTYPE=image/jpeg:https://night4u.pl/wp-content/uploads/2019/10/69
 808_image_71258122_2462113767204757_612402473155428352_n.jpg
CATEGORIES:łódzkie
LOCATION:El Cubano\, Łódź\, Poland
GEO:51.768809;19.45801
X-APPLE-STRUCTURED-LOCATION;VALUE=URI;X-ADDRESS=Łódź\, Poland;X-APPLE-RA
 DIUS=100;X-TITLE=El Cubano:geo:51.768809,19.45801
END:VEVENT
BEGIN:VTIMEZONE
TZID:Europe/Warsaw
X-LIC-LOCATION:Europe/Warsaw
BEGIN:DAYLIGHT
DTSTART:20190331T030000
TZOFFSETFROM:+0100
TZOFFSETTO:+0200
TZNAME:CEST
END:DAYLIGHT
END:VTIMEZONE
END:VCALENDAR