BEGIN:VCALENDAR
VERSION:2.0
PRODID:-//wp-events-plugin.com//7.2.3.1//EN
TZID:Europe/Warsaw
X-WR-TIMEZONE:Europe/Warsaw
BEGIN:VEVENT
UID:39524@night4u.pl
DTSTART;TZID=Europe/Warsaw:20191214T220000
DTEND;TZID=Europe/Warsaw:20191215T050000
DTSTAMP:20191215T003003Z
URL:https://night4u.pl/wydarzenia/morowa-sobota-x-morowy-x-sobota-14-12/
SUMMARY:Morowa sobota x Morowy x sobota 14.12
DESCRIPTION:⚡️MOROWY🔝🔝\n\n⚡️Anioł stróż Wysokich Tonów a 
 do tego jeden z najlepszych djów w tym kraju 🇵🇱🇵🇱\n\n⚡️To
  będzie naprawdę Morowa sobota bo on stanie za sterami naszej DJ'jki  
 🎧i rozpali tę noc milionem dźwięków  🎶🎼🎵\n\n⚡️Start 22
 :00 🕙\nwstęp / ze względu na komfort i bezpieczeństwo naszych gości
  zastrzegamy sobie prawo do selekcji\n\n⚡️Rezerwacje ☎️602 748 814
 ☎️\n\n🖤💛Do zobaczenia w Wysokich💛🖤
ATTACH;FMTTYPE=image/jpeg:https://night4u.pl/wp-content/uploads/2019/12/11
 6810_image_78814727_2534356190174627_7835323990737420288_o.jpg
CATEGORIES:podlaskie
LOCATION:Wysokie Tony\, Marii Skłodowskiej Curie 2\, Białystok\, 15-097\,
  Poland
GEO:53.12982;23.15624
X-APPLE-STRUCTURED-LOCATION;VALUE=URI;X-ADDRESS=Marii Skłodowskiej Curie 2
 \, Białystok\, 15-097\, Poland;X-APPLE-RADIUS=100;X-TITLE=Wysokie Tony:ge
 o:53.12982,23.15624
END:VEVENT
BEGIN:VTIMEZONE
TZID:Europe/Warsaw
X-LIC-LOCATION:Europe/Warsaw
BEGIN:STANDARD
DTSTART:20191027T020000
TZOFFSETFROM:+0200
TZOFFSETTO:+0100
TZNAME:CET
END:STANDARD
END:VTIMEZONE
END:VCALENDAR